BEGIN:VCALENDAR
VERSION:2.0
PRODID:-//ChamberMaster//Event Calendar 2.0//EN
METHOD:PUBLISH
X-PUBLISHED-TTL:P3D
REFRESH-INTERVAL:P3D
CALSCALE:GREGORIAN
BEGIN:VEVENT
DTSTART:20250821T140000Z
DTEND:20250821T150500Z
X-MICROSOFT-CDO-ALLDAYEVENT:FALSE
SUMMARY:2004 Volkswagen Beetle GLS Auction ***ONLINE ONLY***
DESCRIPTION:2004 Volkswagen Beetle GLS Auction\nAugust 21st\, 2025\n\nClosing at 11:05 AM\n\nQuinn's Auction Galleries presents this 2004 Volkswagen Beetle GLS Auto Auction. Known for its unique look\, comfortable interior\, and decent fuel economy this vehicle is perfect for a collector or anyone looking for a stylish ride. This low mileage Beetle starts and runs without issue\, and can be driven off the property.\n\nPlease note 25% buyers premium for our auction. Payments accepted: bankers check\, cashiers check\, cash\, or money order. Must clear before pickup.\n\nPlease email lori.taylor@quinnsauction.com for any payment questions. Email weekly@quinnsauction.com to schedule a preview appointment. \n\nREMOVAL BY APPOINTMENT ONLY.
X-ALT-DESC;FMTTYPE=text/html:<a href="https://quinnsauction.appspot.com/auctions/0jlPXuqAsqWlKlTvfL6n"><span style="font-size:14px"><strong>2004 Volkswagen Beetle GLS Auction</strong></span></a>\n<p>August 21st\, 2025<br />\nClosing at 11:05 AM</p>\n\n<p>Quinn&#39\;s Auction Galleries presents this 2004 Volkswagen Beetle GLS Auto Auction. Known for its unique look\, comfortable interior\, and decent fuel economy this vehicle is perfect for a collector or anyone looking for a stylish ride. This low mileage Beetle starts and runs without issue\, and can be driven off the property.</p>\n\n<p><strong>Please note 25% buyers premium for our auction</strong>. Payments accepted: bankers check\, cashiers check\, cash\, or money order. Must clear before pickup.</p>\n\n<p>Please email lori.taylor@quinnsauction.com for any payment questions. Email weekly@quinnsauction.com to schedule a preview appointment.&nbsp\;</p>\n\n<p><strong>REMOVAL BY APPOINTMENT ONLY.</strong></p>\n
LOCATION:
UID:e.1250.81314
SEQUENCE:3
DTSTAMP:20260420T103102Z
URL:https://business.fallschurchchamber.org/events/details/2004-volkswagen-beetle-gls-auction-online-only-81314
END:VEVENT

END:VCALENDAR
