BEGIN:VCALENDAR
VERSION:2.0
PRODID:-//ChamberMaster//Event Calendar 2.0//EN
METHOD:PUBLISH
X-PUBLISHED-TTL:P3D
REFRESH-INTERVAL:P3D
CALSCALE:GREGORIAN
BEGIN:VEVENT
DTSTART:20250523T140000Z
DTEND:20250523T160500Z
X-MICROSOFT-CDO-ALLDAYEVENT:FALSE
SUMMARY:2006 Infinity FX35 Auction ***ONLINE ONLY***
DESCRIPTION:2006 Infinity FX35\n\nMay 23rd\, 2025\n\nClosing at 1:05 PM\n\nQuinn's Auction Galleries presents this 2006 Infinity FX35 Auto Auction. This low mileage vehicle starts and run without issue. \n\nPlease note 25% buyers premium for our auction. Payments accepted: bankers check\, cashiers check\, cash\, or money order. Must clear before pickup.\n\nPlease email lori.taylor@quinnsauction.com for any payment questions. Email weekly@quinnsauction.com to schedule a preview appointment. \n\nREMOVAL BY APPOINTMENT ONLY.
X-ALT-DESC;FMTTYPE=text/html:<p><strong><a href="https://quinnsauction.appspot.com/auctions/wpzV1OlxM8SXE2XTUOos" style="box-sizing: border-box\; transition: 0.5s\; background-color: transparent\; color: rgb(0\, 0\, 0)\; text-decoration-line: none\; user-select: auto\;">200</a>6 Infinity FX35</strong></p>\n\n<p>May 23rd\, 2025<br />\nClosing at 1:05 PM</p>\n\n<p>Quinn&#39\;s Auction Galleries presents this 2006 Infinity FX35 Auto Auction. This low mileage vehicle starts and run without issue.&nbsp\;</p>\n\n<p><strong>Please note 25% buyers premium for our auction</strong>. Payments accepted: bankers check\, cashiers check\, cash\, or money order. Must clear before pickup.</p>\n\n<p>Please email lori.taylor@quinnsauction.com for any payment questions. Email weekly@quinnsauction.com to schedule a preview appointment.&nbsp\;</p>\n\n<p><strong>REMOVAL BY APPOINTMENT ONLY.</strong></p>\n
LOCATION:
UID:e.1250.80951
SEQUENCE:3
DTSTAMP:20260420T120018Z
URL:https://business.fallschurchchamber.org/events/details/2006-infinity-fx35-auction-online-only-80951
END:VEVENT

END:VCALENDAR
