BEGIN:VCALENDAR
VERSION:2.0
PRODID:-//ChamberMaster//Event Calendar 2.0//EN
METHOD:PUBLISH
X-PUBLISHED-TTL:P3D
REFRESH-INTERVAL:P3D
CALSCALE:GREGORIAN
BEGIN:VEVENT
DTSTART:20250617T140000Z
DTEND:20250617T160500Z
X-MICROSOFT-CDO-ALLDAYEVENT:FALSE
SUMMARY:2011 Honda Accord Auction ***ONLINE ONLY***
DESCRIPTION:2011 Honda Accord \nJune 17th\, 2025\n\nClosing at 12:05 PM\n\nQuinn's Auction Galleries presents this 2011 Honda Accord Auto Auction. \n\n\n\nPlease note 25% buyers premium for our auction. Payments accepted: bankers check\, cashiers check\, cash\, or money order. Must clear before pickup.\n\nPlease email lori.taylor@quinnsauction.com for any payment questions. Email weekly@quinnsauction.com to schedule a preview appointment. \n\nREMOVAL BY APPOINTMENT ONLY.
X-ALT-DESC;FMTTYPE=text/html:<strong><span style="font-size:14px"><a href="https://quinnsauction.appspot.com/auctions/OLuAM3w9CHRfVnI33i3o"><span style="color:#000000">2011 Honda Accord</span></a></span></strong><a href="https://quinnsauction.appspot.com/auctions/OLuAM3w9CHRfVnI33i3o"><strong><span style="font-size:14px">&nbsp\;</span></strong></a>\n<p>June 17th\, 2025<br />\nClosing at 12:05 PM</p>\n\n<p>Quinn&#39\;s Auction Galleries presents this 2011 Honda Accord Auto Auction.&nbsp\;<br />\n<br />\n<strong>Please note 25% buyers premium for our auction</strong>. Payments accepted: bankers check\, cashiers check\, cash\, or money order. Must clear before pickup.</p>\n\n<p>Please email lori.taylor@quinnsauction.com for any payment questions. Email weekly@quinnsauction.com to schedule a preview appointment.&nbsp\;</p>\n\n<p><strong>REMOVAL BY APPOINTMENT ONLY.</strong></p>\n
LOCATION:
UID:e.1250.81041
SEQUENCE:3
DTSTAMP:20260420T133907Z
URL:https://business.fallschurchchamber.org/events/details/2011-honda-accord-auction-online-only-81041
END:VEVENT

END:VCALENDAR
