BEGIN:VCALENDAR
VERSION:2.0
PRODID:-//ChamberMaster//Event Calendar 2.0//EN
METHOD:PUBLISH
X-PUBLISHED-TTL:P3D
REFRESH-INTERVAL:P3D
CALSCALE:GREGORIAN
BEGIN:VEVENT
DTSTART:20120518T103000Z
DTEND:20120518T130000Z
X-MICROSOFT-CDO-ALLDAYEVENT:FALSE
SUMMARY:2012 Bike To Work Day
DESCRIPTION:Join the 2012 bike to work day and make a pit stop in Falls Church!\n\n\n\n6:30 am - 9:00 am and 4:30 - 7:00 pm\n\nW&OD Trail at Grove Avenue\n\n\n\nFree food\, drinks & giveaways!\n\n\n\nRegister at biketoworkmetrodc.org\n\nPre-register by May 11 for free t-shirt and bike raffle
X-ALT-DESC;FMTTYPE=text/html:Join the 2012 bike to work day and make a pit stop in Falls Church!<br />\n<br />\n6:30 am - 9:00 am and 4:30 - 7:00 pm<br />\nW&amp\;OD Trail at Grove Avenue<br />\n<br />\nFree food\, drinks &amp\; giveaways!<br />\n<br />\nRegister at biketoworkmetrodc.org<br />\nPre-register by May 11 for free t-shirt and bike raffle
LOCATION:Falls Church Pit Stop W&OD trail at Grove Ave.
UID:e.1250.238
SEQUENCE:3
DTSTAMP:20260425T165157Z
URL:https://business.fallschurchchamber.org/events/details/2012-bike-to-work-day-05-18-2012-238
END:VEVENT

END:VCALENDAR
