BEGIN:VCALENDAR
VERSION:2.0
PRODID:-//ChamberMaster//Event Calendar 2.0//EN
METHOD:PUBLISH
X-PUBLISHED-TTL:P3D
REFRESH-INTERVAL:P3D
CALSCALE:GREGORIAN
BEGIN:VEVENT
DTSTART:20250828T140000Z
DTEND:20250828T170500Z
X-MICROSOFT-CDO-ALLDAYEVENT:FALSE
SUMMARY:2014 Ford Mustang Coupe Auction ***ONLINE ONLY***
DESCRIPTION:2014 Ford Mustang Coupe Auction\nClosing at 1:05 PM\n\nQuinn's Auction Galleries presents this 2014 Ford Mustang Auto Auction. Take a chance on this American classic that starts and runs without issue\, and can be driven off the property. Please note 25% buyers premium for our auction. Payments accepted: cash\, bank checks\, money orders\, check payment- must clear before pick up.\n\nPlease note 25% buyers premium for our auction. Payments accepted: bankers check\, cashiers check\, cash\, or money order. Must clear before pickup.\n\nPlease email lori.taylor@quinnsauction.com for any payment questions. Email weekly@quinnsauction.com to schedule a preview appointment. \n\nREMOVAL BY APPOINTMENT ONLY.
X-ALT-DESC;FMTTYPE=text/html:<span style="font-family:arial\,helvetica\,sans-serif"><a href="https://quinnsauction.appspot.com/auctions/fzPkIN7ULV1LjqvrYTRD"><strong><span style="font-size:16px">2014 Ford Mustang Coupe Auction</span></strong></a></span>\n<p><span style="font-family:arial\,helvetica\,sans-serif">Closing at 1:05 PM</span></p>\n\n<p><span style="font-family:arial\,helvetica\,sans-serif"><span style="font-size:14px"><span style="color:#000000">Quinn&#39\;s Auction Galleries presents this 2014 Ford Mustang Auto Auction. Take a chance on this American classic that starts and runs without issue\, and can be driven off the property. Please note 25% buyers premium for our auction. Payments accepted: cash\, bank checks\, money orders\, check payment- must clear before pick up.</span></span></span></p>\n\n<p><span style="font-family:arial\,helvetica\,sans-serif"><strong>Please note 25% buyers premium for our auction</strong>. Payments accepted: bankers check\, cashiers check\, cash\, or money order. Must clear before pickup.</span></p>\n\n<p><span style="font-family:arial\,helvetica\,sans-serif">Please email lori.taylor@quinnsauction.com for any payment questions. Email weekly@quinnsauction.com to schedule a preview appointment.&nbsp\;</span></p>\n\n<p><span style="font-family:arial\,helvetica\,sans-serif"><strong>REMOVAL BY APPOINTMENT ONLY.</strong></span></p>\n
LOCATION:
UID:e.1250.81318
SEQUENCE:3
DTSTAMP:20260420T103053Z
URL:https://business.fallschurchchamber.org/events/details/2014-ford-mustang-coupe-auction-online-only-08-28-2025-81318
END:VEVENT

END:VCALENDAR
