BEGIN:VCALENDAR
VERSION:2.0
PRODID:-//ChamberMaster//Event Calendar 2.0//EN
METHOD:PUBLISH
X-PUBLISHED-TTL:P3D
REFRESH-INTERVAL:P3D
CALSCALE:GREGORIAN
BEGIN:VEVENT
DTSTART:20250717T140000Z
DTEND:20250717T170500Z
X-MICROSOFT-CDO-ALLDAYEVENT:FALSE
SUMMARY:2015 BMW X5 and 2000 Toyota Tacoma Auction ***ONLINE ONLY***
DESCRIPTION:2015 BMW X5 and 2000 Toyota Tacoma Auction\nJuly 17th\, 2025\n\nClosing at 1:05 PM\n\nQuinn's Auction Galleries presents this 2015 BMW X5 XDrive 50i and 2000 Toyota Tacoma SRS V6 Auto Auction.\n\n\nVehicles are located in a parking lot and will need to be towed off the property.  \n\n\nPlease note 25% buyers premium for our auction. Payments accepted: bankers check\, cashiers check\, cash\, or money order. Must clear before pickup.\n\nPlease email lori.taylor@quinnsauction.com for any payment questions. Email weekly@quinnsauction.com to schedule a preview appointment. \n\nREMOVAL BY APPOINTMENT ONLY.
X-ALT-DESC;FMTTYPE=text/html:<a href="https://quinnsauction.appspot.com/auctions/69ifvRd3zREoktx9Bk6R"><font color="#000000"><span style="font-size:14px"><strong>2015 BMW X5 and 2000 Toyota Tacoma Auction</strong></span></font></a>\n<p>July 17th\, 2025<br />\nClosing at 1:05 PM</p>\n\n<p>Quinn&#39\;s Auction Galleries presents this 2015 BMW X5 XDrive 50i and 2000 Toyota Tacoma SRS V6 Auto Auction.</p>\n\n<div>\n<div>Vehicles are located in a parking lot and will need to be towed off the property.&nbsp\;&nbsp\;</div>\n</div>\n\n<p><strong>Please note 25% buyers premium for our auction</strong>. Payments accepted: bankers check\, cashiers check\, cash\, or money order. Must clear before pickup.</p>\n\n<p>Please email lori.taylor@quinnsauction.com for any payment questions. Email weekly@quinnsauction.com to schedule a preview appointment.&nbsp\;</p>\n\n<p><strong>REMOVAL BY APPOINTMENT ONLY.</strong></p>\n
LOCATION:
UID:e.1250.81281
SEQUENCE:3
DTSTAMP:20260420T122709Z
URL:https://business.fallschurchchamber.org/events/details/2015-bmw-x5-and-2000-toyota-tacoma-auction-online-only-81281
END:VEVENT

END:VCALENDAR
