BEGIN:VCALENDAR
VERSION:2.0
PRODID:-//ChamberMaster//Event Calendar 2.0//EN
METHOD:PUBLISH
X-PUBLISHED-TTL:P3D
REFRESH-INTERVAL:P3D
CALSCALE:GREGORIAN
BEGIN:VEVENT
DTSTART:20250529T140000Z
DTEND:20250529T170500Z
X-MICROSOFT-CDO-ALLDAYEVENT:FALSE
SUMMARY:2019 Lincoln MKZ Auction ***ONLINE ONLY***
DESCRIPTION:2019 Lincoln MKZ\nMay 29th\, 2025\n\nClosing at 1:05 PM\n\nQuinn's Auction Galleries presents this 2019 Lincoln MKZ Auto Auction. This low mileage luxury vehicle starts and run without issue. \n\nPlease note 25% buyers premium for our auction. Payments accepted: bankers check\, cashiers check\, cash\, or money order. Must clear before pickup.\n\nPlease email lori.taylor@quinnsauction.com for any payment questions. Email weekly@quinnsauction.com to schedule a preview appointment. \n\nREMOVAL BY APPOINTMENT ONLY.
X-ALT-DESC;FMTTYPE=text/html:<strong><span style="font-size:14px"><a href="https://quinnsauction.appspot.com/auctions/vJQSEhOkvGtrgLwleDvx"><span style="color:#000000">2019&nbsp\;Lincoln MKZ</span></a></span></strong>\n<p>May 29th\, 2025<br />\nClosing at 1:05 PM</p>\n\n<p>Quinn&#39\;s Auction Galleries presents this 2019 Lincoln MKZ Auto Auction. This low mileage luxury vehicle starts and run without issue.&nbsp\;</p>\n\n<p><strong>Please note 25% buyers premium for our auction</strong>. Payments accepted: bankers check\, cashiers check\, cash\, or money order. Must clear before pickup.</p>\n\n<p>Please email lori.taylor@quinnsauction.com for any payment questions. Email weekly@quinnsauction.com to schedule a preview appointment.&nbsp\;</p>\n\n<p><strong>REMOVAL BY APPOINTMENT ONLY.</strong></p>\n
LOCATION:
UID:e.1250.80976
SEQUENCE:3
DTSTAMP:20260420T120241Z
URL:https://business.fallschurchchamber.org/events/details/2019-lincoln-mkz-auction-online-only-80976
END:VEVENT

END:VCALENDAR
