BEGIN:VCALENDAR
VERSION:2.0
PRODID:-//ChamberMaster//Event Calendar 2.0//EN
METHOD:PUBLISH
X-PUBLISHED-TTL:P3D
REFRESH-INTERVAL:P3D
CALSCALE:GREGORIAN
BEGIN:VEVENT
DTSTART:20121110T150000Z
DTEND:20121110T230000Z
X-MICROSOFT-CDO-ALLDAYEVENT:FALSE
SUMMARY:20th Anniversary Open House!
DESCRIPTION:We are celebrating our 20th year in Falls Church city. Please drop in Saturday November 10th for a drop of bubbly and a designer cookie:) We look forward to seeing you!
X-ALT-DESC;FMTTYPE=text/html:We are celebrating our 20th year in Falls Church city. Please drop in Saturday November 10th for a drop of bubbly and a designer cookie:) We look forward to seeing you!&nbsp\;
LOCATION:New To You\, Inc 108 West Broad St. Falls Church\, VA
UID:e.1250.399
SEQUENCE:3
DTSTAMP:20260426T031428Z
URL:https://business.fallschurchchamber.org/events/details/20th-anniversary-open-house-11-10-2012-399
END:VEVENT

END:VCALENDAR
