BEGIN:VCALENDAR
VERSION:2.0
PRODID:-//ChamberMaster//Event Calendar 2.0//EN
METHOD:PUBLISH
X-PUBLISHED-TTL:P3D
REFRESH-INTERVAL:P3D
CALSCALE:GREGORIAN
BEGIN:VEVENT
DTSTART;VALUE=DATE:20120921
DTEND;VALUE=DATE:20120922
TRANSP:TRANSPARENT
X-MICROSOFT-CDO-ALLDAYEVENT:TRUE
SUMMARY:24 Hour Fitness Grand Opening
DESCRIPTION:24 Hour Fitness will have its Grand Opening on September 21\n\n\n\nVisit 24hourfitness.com for more information about our clubs and affordable membership options.\n\n\n\nFalls Church Super-Sport\n\n1000 E. Broad St.\n\nFalls Church\, VA
X-ALT-DESC;FMTTYPE=text/html:24 Hour Fitness will have its Grand Opening on September 21<br />\n<br />\nVisit 24hourfitness.com for more information about our clubs and affordable membership options.<br />\n<br />\nFalls Church Super-Sport<br />\n1000 E. Broad St.<br />\nFalls Church\, VA
LOCATION:Falls Church Super-Sport 1000 E. Broad St. Falls Church\, VA On the corner of E. Broad St. & Roosevelt St. near Seven Corners
UID:e.1250.327
SEQUENCE:3
DTSTAMP:20260425T234953Z
URL:https://business.fallschurchchamber.org/events/details/24-hour-fitness-grand-opening-09-21-2012-327
END:VEVENT

END:VCALENDAR
