BEGIN:VCALENDAR
VERSION:2.0
PRODID:-//ChamberMaster//Event Calendar 2.0//EN
METHOD:PUBLISH
X-PUBLISHED-TTL:P3D
REFRESH-INTERVAL:P3D
CALSCALE:GREGORIAN
BEGIN:VEVENT
DTSTART:20110918T120000Z
DTEND:20110918T150000Z
X-MICROSOFT-CDO-ALLDAYEVENT:FALSE
SUMMARY:6th Annual Run for the Schools
DESCRIPTION:Falls Church Education Foundation's 6th annual Run for the Schools will be held on Sunday\, September 18.  Register online at www.fcedf.org\n\n\n\nRun begins at 8:00 am at Cherry Hill Park
X-ALT-DESC;FMTTYPE=text/html:Falls Church Education Foundation&#39\;s 6th annual Run for the Schools will be held on Sunday\, September 18.&nbsp\; Register online at www.fcedf.org<br />\n<br />\nRun begins at 8:00 am at Cherry Hill Park
LOCATION:
UID:e.1250.7
SEQUENCE:3
DTSTAMP:20260423T044521Z
URL:https://business.fallschurchchamber.org/events/details/6th-annual-run-for-the-schools-09-18-2011-7
END:VEVENT

END:VCALENDAR
