BEGIN:VCALENDAR
VERSION:2.0
PRODID:-//ChamberMaster//Event Calendar 2.0//EN
METHOD:PUBLISH
X-PUBLISHED-TTL:P3D
REFRESH-INTERVAL:P3D
CALSCALE:GREGORIAN
BEGIN:VEVENT
DTSTART:20120303T003000Z
DTEND:20120303T040000Z
X-MICROSOFT-CDO-ALLDAYEVENT:FALSE
SUMMARY:80's Dance Party
DESCRIPTION:Join Creative Cauldron and Falls Church Arts as they host a 1980s dance party fundraiser for the operations of ArtSpace Falls Church. \n\n	 \n\n	"DJ Doctor G" (Known to some as Gordon Theisz\, M.D.) will be spinning real vinyl record albums... playing Disco\, Funk and Rock and Roll from 7:30pm - 11pm on Friday March 2\, at ArtSpace Falls Church. Non-stop music\, refreshments and raffle prizes are all part of the fun evening!\n\n	 \n\n	Sponsored by Tom Clinton
X-ALT-DESC;FMTTYPE=text/html:<center style="text-align: left">\n	<font class="Apple-style-span" face="verdana" size="2">Join Creative Cauldron and Falls Church Arts as they host a 1980s dance party fundraiser for the operations of ArtSpace Falls Church.&nbsp\;</font></center>\n<center style="text-align: left">\n	&nbsp\;</center>\n<center style="text-align: left">\n	<font class="Apple-style-span" face="verdana" size="2">&quot\;DJ Doctor G&quot\; (Known to some as Gordon Theisz\, M.D.) will be spinning real vinyl record albums... playing Disco\, Funk and Rock and Roll from 7:30pm - 11pm on Friday March 2\, at ArtSpace Falls Church. N</font><span class="Apple-style-span" style="font-family: verdana\; font-size: small">on-stop music\, refreshments and raffle prizes are all part of the fun evening!</span></center>\n<center>\n	&nbsp\;</center>\n<center style="text-align: left">\n	<span class="Apple-style-span" style="font-family: verdana\; font-size: small">Sponsored by Tom Clinton<span _fck_bookmark="1" style="display: none">&nbsp\;</span></span></center>\n
LOCATION:artspace falls church 410 s. maple ave. falls church
UID:e.1250.222
SEQUENCE:3
DTSTAMP:20260425T134444Z
URL:https://business.fallschurchchamber.org/events/details/80-s-dance-party-03-02-2012-222
END:VEVENT

END:VCALENDAR
