BEGIN:VCALENDAR
VERSION:2.0
PRODID:-//ChamberMaster//Event Calendar 2.0//EN
METHOD:PUBLISH
X-PUBLISHED-TTL:P3D
REFRESH-INTERVAL:P3D
CALSCALE:GREGORIAN
BEGIN:VEVENT
DTSTART:20120610T160000Z
DTEND:20120610T210000Z
X-MICROSOFT-CDO-ALLDAYEVENT:FALSE
SUMMARY:American Girl Doll Clothes Trunk Show at Doodlehopper
DESCRIPTION:Doodlehopper is having a very special event Sunday\, June 10th from 12:00 to 5:00 PM in our Falls Church store.  \n\n	\n\n	We are having a Doll Clothes TRUNK SHOW for the American Girl Doll. \n\n	\n\n	We will have a doll craft for the girls\, free gifts\, drawing for doll wardrobe & accessories\, special discount on our American Girl library collection & more.
X-ALT-DESC;FMTTYPE=text/html:<div style="color: gray">\n	<span style="font-family: arial"><span style="font-size: medium">Doodlehopper is&nbsp\;having a very special event Sunday\, June 10th from 12:00 to 5:00 PM in our Falls Church store.&nbsp\;&nbsp\;</span><br />\n	<br />\n	<span style="font-size: 12pt">We are having a <strong>Doll Clothes TRUNK SHOW for the American Girl Doll</strong>.&nbsp\;<br />\n	<br />\n	We will have&nbsp\;a doll craft for the girls\, free gifts\, drawing for doll wardrobe &amp\; accessories\, special discount on our American Girl library collection &amp\;&nbsp\;more.</span></span></div>\n
LOCATION:Doodlehopper 4 Kids 228 W. Broad St. Falls Church\, VA 22046
UID:e.1250.288
SEQUENCE:3
DTSTAMP:20260425T184928Z
URL:https://business.fallschurchchamber.org/events/details/american-girl-doll-clothes-trunk-show-at-doodlehopper-06-10-2012-288
END:VEVENT

END:VCALENDAR
