BEGIN:VCALENDAR
VERSION:2.0
PRODID:-//ChamberMaster//Event Calendar 2.0//EN
METHOD:PUBLISH
X-PUBLISHED-TTL:P3D
REFRESH-INTERVAL:P3D
CALSCALE:GREGORIAN
BEGIN:VEVENT
DTSTART;VALUE=DATE:20120521
DTEND;VALUE=DATE:20120525
TRANSP:TRANSPARENT
X-MICROSOFT-CDO-ALLDAYEVENT:TRUE
SUMMARY:Anthony's Restaurant 40th Anniversary
DESCRIPTION:Join us for a 4-day celebration of our 40th Anniversary! \n	\n		Monday\, May 21   Thursday\, May 24 \n	\n		Free soft drinks   sweet treats   discounted specials Anthony's Gift certificates\, t-shirts and other giveaways \n	\n		Don't miss the cake-cutting and other festivities \n	\n		on Monday\, May 21 at 7 PM!!! \n	\n		309 West Broad Street Falls Church\, VA 22046 - 703.532.0100 \n	\n		Like Us on Facebook www.anthonysrestaurantva.com
X-ALT-DESC;FMTTYPE=text/html:<div style="color: gray">\n	<p align="left">\n		&nbsp\;</p>\n	<p>\n		<span style="color: #000000"><span style="font-size: 16px">Join us for a 4-day celebration of our 40th Anniversary! </span></span></p>\n	<p>\n		<span style="color: #000000"><span style="font-size: 16px"><b><font face="Times New Roman\,Times New Roman"><font face="Times New Roman\,Times New Roman">Monday\, May 21 &ndash\; Thursday\, May 24 </font></font></b></span></span></p>\n	<p>\n		<span style="color: #000000"><span style="font-size: 16px">Free soft drinks &ndash\; sweet treats &ndash\; discounted specials Anthony&rsquo\;s Gift certificates\, t-shirts and other giveaways </span></span></p>\n	<p>\n		<span style="color: #000000"><span style="font-size: 16px"><b><font face="Times New Roman\,Times New Roman"><font face="Times New Roman\,Times New Roman">Don&rsquo\;t miss the cake-cutting and other festivities </font></font></b></span></span></p>\n	<p>\n		<span style="color: #000000"><span style="font-size: 16px"><b><font face="Times New Roman\,Times New Roman"><font face="Times New Roman\,Times New Roman">on Monday\, May 21 at 7 PM!!! </font></font></b></span></span></p>\n	<p>\n		<span style="color: #000000"><span style="font-size: 16px">309 West Broad Street Falls Church\, VA 22046 - 703.532.0100 </span></span></p>\n	<p>\n		<span style="color: #000000"><span style="font-size: 16px">Like Us on Facebook www.anthonysrestaurantva.com&nbsp\;</span></span></p>\n</div>\n
LOCATION:309 W. Broad St. Falls Church
UID:e.1250.275
SEQUENCE:3
DTSTAMP:20260425T165048Z
URL:https://business.fallschurchchamber.org/events/details/anthony-s-restaurant-40th-anniversary-05-21-2012-275
END:VEVENT

END:VCALENDAR
