BEGIN:VCALENDAR
VERSION:2.0
PRODID:-//ChamberMaster//Event Calendar 2.0//EN
METHOD:PUBLISH
X-PUBLISHED-TTL:P3D
REFRESH-INTERVAL:P3D
CALSCALE:GREGORIAN
BEGIN:VEVENT
DTSTART:20120719T230000Z
DTEND:20120720T010000Z
X-MICROSOFT-CDO-ALLDAYEVENT:FALSE
SUMMARY:Apple Core (Beatles) at Cherry Hill Park
DESCRIPTION:VPIS Concerts in the Park features the Apple Core\, a DC-area wigs-free Beatles coverband known for energetically accurate live performances of the Beatles' catalog\, "from the Cavern to the Rooftop". (www.reverbnation.com/theAppleCore)\n\n\n\n\n\nThe Village Preservation and Improvement Society is proud to offer the 20th season of Summer Concerts in Cherry Hill Park.  Co-sponsored by the City of Falls Church Recreation and Parks Department\, the concerts take place on seven Thursdays this summer at 7PM.  Bands with a local connection are always featured\, and Falls Church Arts members also present their creations.
X-ALT-DESC;FMTTYPE=text/html:VPIS Concerts in the Park features the Apple Core\, a DC-area wigs-free Beatles coverband known for energetically accurate live performances of the Beatles&#39\; catalog\, &quot\;from the Cavern to the Rooftop&quot\;. (www.reverbnation.com/theAppleCore)<br />\n<br />\n<br />\n<span style="background-color: rgb(211\,232\,255)\; font-family: arial\, helvetica\, sans-serif\, 'ms sans serif'\; color: rgb(128\,128\,128)">The Village Preservation and Improvement Society is proud to&nbsp\;offer the 20th season of Summer Concerts in Cherry Hill Park.&nbsp\;&nbsp\;Co-sponsored by the City of Falls Church Recreation and Parks Department\, the concerts take place on seven Thursdays this summer at 7PM.&nbsp\;&nbsp\;Bands with a local connection are always featured\, and Falls Church Arts members also present their creations.&nbsp\;</span> 
LOCATION:Cherry Hill Park 312 Park Avenue Falls Church
UID:e.1250.310
SEQUENCE:3
DTSTAMP:20260425T221332Z
URL:https://business.fallschurchchamber.org/events/details/apple-core-beatles-at-cherry-hill-park-07-19-2012-310
END:VEVENT

END:VCALENDAR
