BEGIN:VCALENDAR
VERSION:2.0
PRODID:-//ChamberMaster//Event Calendar 2.0//EN
METHOD:PUBLISH
X-PUBLISHED-TTL:P3D
REFRESH-INTERVAL:P3D
CALSCALE:GREGORIAN
BEGIN:VEVENT
DTSTART:20120528T140000Z
DTEND:20120528T200000Z
X-MICROSOFT-CDO-ALLDAYEVENT:FALSE
SUMMARY:Art & Antiques Fair at Stifel and Capra
DESCRIPTION:Stifel & Capra will be OPEN during Falls Church City's Memorial Day parade with an art & antique fair. Original Artwork\, Artisan Crafts and Vintage Treasures spill out from the shop and into the parking lot.
X-ALT-DESC;FMTTYPE=text/html:Stifel &amp\; Capra will be OPEN during Falls Church City&#39\;s Memorial Day parade with an art &amp\; antique fair. Original Artwork\, Artisan Crafts and Vintage Treasures spill out from the shop and into the parking lot.
LOCATION:Stifel & Capra\, 260 W. Broad Street\, Falls Church\, VA 22046
UID:e.1250.251
SEQUENCE:3
DTSTAMP:20260425T184040Z
URL:https://business.fallschurchchamber.org/events/details/art-antiques-fair-at-stifel-and-capra-05-28-2012-251
END:VEVENT

END:VCALENDAR
