BEGIN:VCALENDAR
VERSION:2.0
PRODID:-//ChamberMaster//Event Calendar 2.0//EN
METHOD:PUBLISH
X-PUBLISHED-TTL:P3D
REFRESH-INTERVAL:P3D
CALSCALE:GREGORIAN
BEGIN:VEVENT
DTSTART:20250822T140000Z
DTEND:20250822T160000Z
X-MICROSOFT-CDO-ALLDAYEVENT:FALSE
SUMMARY:Asian Art Auction ***ONLINE ONLY***
DESCRIPTION:Asian Art Auction\n\nQuinn's Auction Galleries is proud to present our Asian Art Auction featuring porcelain\, cloisonn \, snuff bottles\, scrolls\, paintings\, and furniture.\n\n\n\nSALE INFO:\n\nAugust 22nd\, 2025\n\nFirst lot closing at 12:00PM Eastern\n\nOnline Only Auction on iGavel\n\n25% Buyers Premium\n\nPICKUP INFO:\n\nFalls Church\, VA\n\nAugust 25th-29th 10:30am to 5:30pm\n\nSeptember 2nd-5th 10:30am to 5:30pm\n\nAddress for pickup and appointment signup provided to winners via auction invoice.\n\nPlease bring appropriate assistance for removal. We will not be able to offer assistance.\n\nIf you do not come at your designated pickup time your lots will be forfeited without refund.\n\nNo shipping available for this auction.
X-ALT-DESC;FMTTYPE=text/html:<p><a href="https://bid.igavelauctions.com/AuctionHelp.taf?keyword=AFR3SH&amp\;days=10&amp\;st=1&amp\;S=N&amp\;R=2&amp\;C=2&amp\;return=50&amp\;sort=1&amp\;adv=1&amp\;page=1"><span style="font-size:18px">Asian Art Auction</span></a></p>\n\n<p>Quinn&#39\;s Auction Galleries is proud to present our Asian Art Auction featuring porcelain\, cloisonn&eacute\;\, snuff bottles\, scrolls\, paintings\, and furniture.<br />\n<br />\n<strong>SALE INFO:</strong><br />\nAugust 22nd\, 2025<br />\nFirst lot closing at 12:00PM Eastern<br />\nOnline Only Auction on <a href="https://bid.igavelauctions.com/AuctionHelp.taf?keyword=AFR3SH&amp\;days=10&amp\;st=1&amp\;S=N&amp\;R=2&amp\;C=2&amp\;return=50&amp\;sort=1&amp\;adv=1&amp\;page=1">iGavel</a><br />\n25% Buyers Premium</p>\n\n<p><strong>PICKUP INFO:</strong><br />\nFalls Church\, VA<br />\nAugust 25th-29th 10:30am to 5:30pm<br />\nSeptember 2nd-5th 10:30am to 5:30pm<br />\nAddress for pickup and appointment signup provided to winners via auction invoice.<br />\nPlease bring appropriate assistance for removal. We will not be able to offer assistance.<br />\n<strong>If you do not come at your designated pickup time your lots will be forfeited without refund.</strong><br />\n<strong>No shipping available for this auction.</strong></p>\n
LOCATION:
UID:e.1250.81315
SEQUENCE:3
DTSTAMP:20260420T103021Z
URL:https://business.fallschurchchamber.org/events/details/asian-art-auction-online-only-81315
END:VEVENT

END:VCALENDAR
