BEGIN:VCALENDAR
VERSION:2.0
PRODID:-//ChamberMaster//Event Calendar 2.0//EN
METHOD:PUBLISH
X-PUBLISHED-TTL:P3D
REFRESH-INTERVAL:P3D
CALSCALE:GREGORIAN
BEGIN:VEVENT
DTSTART;VALUE=DATE:20120905
DTEND;VALUE=DATE:20120906
TRANSP:TRANSPARENT
X-MICROSOFT-CDO-ALLDAYEVENT:TRUE
SUMMARY:Body Dynamics opens its doors in Falls Church
DESCRIPTION:Body Dynamics opens it doors in Falls Church at South Maple and Tinner Hill
X-ALT-DESC;FMTTYPE=text/html:Body Dynamics opens it doors in Falls Church at South Maple and Tinner Hill
LOCATION:410 South Maple Avenue
UID:e.1250.319
SEQUENCE:3
DTSTAMP:20260425T234549Z
URL:https://business.fallschurchchamber.org/events/details/body-dynamics-opens-its-doors-in-falls-church-09-05-2012-319
END:VEVENT

END:VCALENDAR
