BEGIN:VCALENDAR
VERSION:2.0
PRODID:-//ChamberMaster//Event Calendar 2.0//EN
METHOD:PUBLISH
X-PUBLISHED-TTL:P3D
REFRESH-INTERVAL:P3D
CALSCALE:GREGORIAN
BEGIN:VEVENT
DTSTART:20121005T203000Z
DTEND:20121005T230000Z
X-MICROSOFT-CDO-ALLDAYEVENT:FALSE
SUMMARY:Body Dynamics Ribbon Cutting and Open House
DESCRIPTION:Body Dynamics Physical Therapy and Wellness Center invites all Chamber members and their guests to join us for a celebration of our new home in Falls Church.
X-ALT-DESC;FMTTYPE=text/html:Body Dynamics Physical Therapy and Wellness Center invites all Chamber members and their guests to join us for a celebration of our new home in Falls Church.
LOCATION:410 South Maple Avenue\, Suite 100\, Falls Church\, VA 22046
UID:e.1250.320
SEQUENCE:3
DTSTAMP:20260426T031012Z
URL:https://business.fallschurchchamber.org/events/details/body-dynamics-ribbon-cutting-and-open-house-10-05-2012-320
END:VEVENT

END:VCALENDAR
