BEGIN:VCALENDAR
VERSION:2.0
PRODID:-//ChamberMaster//Event Calendar 2.0//EN
METHOD:PUBLISH
X-PUBLISHED-TTL:P3D
REFRESH-INTERVAL:P3D
CALSCALE:GREGORIAN
BEGIN:VEVENT
DTSTART:20120207T230000Z
DTEND:20120208T003000Z
X-MICROSOFT-CDO-ALLDAYEVENT:FALSE
SUMMARY:Boxer Todd Wilson @ Solano Spine & Sport
DESCRIPTION:Boxer Todd Wilson at Solano's - Wilson will make an appearance at Solano Spine & Sport Chiropractic on Tues\, Feb 7 from 6-7:30pm to sign autographs and pics. Giveaways and a drawing for fight tix will also be available. Visit www.Solanospine.com for info.
X-ALT-DESC;FMTTYPE=text/html:<p>\n	<strong>Boxer Todd Wilson at Solano&#39\;s</strong> - Wilson will make an appearance at Solano Spine &amp\; Sport Chiropractic on Tues\, Feb 7 from 6-7:30pm to sign autographs and pics. Giveaways and a drawing for fight tix will also be available. Visit <a href="http://www.solanospine.com/">www.Solanospine.com</a> for info.<span _fck_bookmark="1" style="display: none">&nbsp\;</span></p>\n
LOCATION:Solano Spine & Sport Chiropractic 313 Park Ave. Falls Church
UID:e.1250.213
SEQUENCE:3
DTSTAMP:20260425T122257Z
URL:https://business.fallschurchchamber.org/events/details/boxer-todd-wilson-solano-spine-sport-02-07-2012-213
END:VEVENT

END:VCALENDAR
