BEGIN:VCALENDAR
VERSION:2.0
PRODID:-//ChamberMaster//Event Calendar 2.0//EN
METHOD:PUBLISH
X-PUBLISHED-TTL:P3D
REFRESH-INTERVAL:P3D
CALSCALE:GREGORIAN
BEGIN:VEVENT
DTSTART:20121125T183000Z
DTEND:20121125T210000Z
X-MICROSOFT-CDO-ALLDAYEVENT:FALSE
SUMMARY:Burn the Bird with Paula Baake
DESCRIPTION:Burn off the Thanksgiving Turkey and Pie with Dancing Mind Yoga!  Owner\, Paula Baake\, will take you through a powerful and fun 2.5 hour class!  Sign up at www.dancingmindyoga.com or call the studio at 703-237-9642.  Tickets are $25 for Non-Members and $20 for Members.
X-ALT-DESC;FMTTYPE=text/html:Burn off the Thanksgiving Turkey and Pie with Dancing Mind Yoga! &nbsp\;Owner\, Paula Baake\, will take you through a powerful and fun 2.5 hour class! &nbsp\;Sign up at www.dancingmindyoga.com or call the studio at 703-237-9642. &nbsp\;Tickets are $25 for Non-Members and $20 for Members.
LOCATION:Dancing Mind Yoga 929 W. Broad Street Falls Church\, VA 22046
UID:e.1250.406
SEQUENCE:3
DTSTAMP:20260426T031440Z
URL:https://business.fallschurchchamber.org/events/details/burn-the-bird-with-paula-baake-11-25-2012-406
END:VEVENT

END:VCALENDAR
