BEGIN:VCALENDAR
VERSION:2.0
PRODID:-//ChamberMaster//Event Calendar 2.0//EN
METHOD:PUBLISH
X-PUBLISHED-TTL:P3D
REFRESH-INTERVAL:P3D
CALSCALE:GREGORIAN
BEGIN:VEVENT
DTSTART:20120923T170000Z
DTEND:20120923T224500Z
X-MICROSOFT-CDO-ALLDAYEVENT:FALSE
SUMMARY:Celebrate Yoga Day
DESCRIPTION:A variety of 45-minute yoga classes offered every hour on the hour. Last class begins at 6:00 p.m. See full schedule on our website\, www.swys.net or call 703-989-8316.
X-ALT-DESC;FMTTYPE=text/html:A variety of 45-minute yoga classes offered every hour on the hour. Last class begins at 6:00 p.m. See full schedule on our website\, <a href="http://www.swys.net">www.swys.net</a> or call 703-989-8316.
LOCATION:450 West Broad St. Stes. 319-320 Falls Church VA 22046
UID:e.1250.331
SEQUENCE:3
DTSTAMP:20260426T012542Z
URL:https://business.fallschurchchamber.org/events/details/celebrate-yoga-day-09-23-2012-331
END:VEVENT

END:VCALENDAR
