BEGIN:VCALENDAR
VERSION:2.0
PRODID:-//ChamberMaster//Event Calendar 2.0//EN
METHOD:PUBLISH
X-PUBLISHED-TTL:P3D
REFRESH-INTERVAL:P3D
CALSCALE:GREGORIAN
BEGIN:VEVENT
DTSTART:20250724T153000Z
DTEND:20250724T163000Z
X-MICROSOFT-CDO-ALLDAYEVENT:FALSE
SUMMARY:Chamber Membership Committee Meeting
DESCRIPTION:Are you looking for more business?  Would you lie to grow your network?  Consider joining the Membership Committee which can accomplish both and give you a better connection with the community.  As a representative of the chamber\, you can call on prospective members - and prospective clients and customers\, building your business.  We meet on the 4th Thursday of each month in a local member business.\n\nTHIS MONTH we are meeting at Compass Coffee on Lee Highway.  They have coffee\, teas\, special summer drinks and lunch selections.  They will also provide a special coffee tasting for the committee.  Learn about new businesses and network with the committee.  Contact Elise for more information.
X-ALT-DESC;FMTTYPE=text/html:Are you looking for more business?&nbsp\; Would you lie to grow your network?&nbsp\; Consider joining the Membership Committee which can accomplish both and give you a better connection with the community.&nbsp\; As a representative of the chamber\, you can call on prospective members - and prospective clients and customers\, building your business.&nbsp\; We meet on the 4th Thursday of each month in a local member business.<br />\nTHIS MONTH we are meeting at Compass Coffee on Lee Highway.&nbsp\; They have coffee\, teas\, special summer drinks and lunch selections.&nbsp\; They will also provide a special coffee tasting for the committee.&nbsp\; Learn about new businesses and network with the committee.&nbsp\; Contact Elise for more information.
LOCATION:Compass Coffee 7393 Lee Highway Falls Church
UID:e.1250.78145
SEQUENCE:3
DTSTAMP:20260420T122453Z
URL:https://business.fallschurchchamber.org/events/details/chamber-membership-committee-meeting-07-24-2025-78145
END:VEVENT

END:VCALENDAR
