BEGIN:VCALENDAR
VERSION:2.0
PRODID:-//ChamberMaster//Event Calendar 2.0//EN
METHOD:PUBLISH
X-PUBLISHED-TTL:P3D
REFRESH-INTERVAL:P3D
CALSCALE:GREGORIAN
BEGIN:VEVENT
DTSTART:20250617T153000Z
DTEND:20250617T171500Z
X-MICROSOFT-CDO-ALLDAYEVENT:FALSE
SUMMARY:Chamber Networking Luncheon
DESCRIPTION:Join the chamber for a delicious and informative presentation by different speakers each month.  Check in at 11:30 am for networking with members and their guests\, members of the community\, and elected officials before lunch.\n\n\n\nThis month\, Maureen Carr of Bean Kinney & Kaplan\, will share updates in employment law to include compliance items\, non-competes\, anti-discrimination law\, and independent contractor classification.  Make reservations today.
X-ALT-DESC;FMTTYPE=text/html:Join the chamber for a delicious and informative presentation by different speakers each month.&nbsp\; Check in at 11:30 am for networking with members and their guests\, members of the community\, and elected officials before lunch.<br />\n<br />\nThis month\, Maureen Carr of Bean Kinney &amp\; Kaplan\, will share updates in employment law to include compliance items\, non-competes\, anti-discrimination law\, and independent contractor classification.&nbsp\; Make reservations today.<br />\n&nbsp\;&nbsp\;<br />\n&nbsp\;
LOCATION:Italian Cafe 7161 Lee Highway\, Falls Church VA
UID:e.1250.78128
SEQUENCE:3
DTSTAMP:20260420T133213Z
URL:https://business.fallschurchchamber.org/events/details/chamber-networking-luncheon-06-17-2025-78128
END:VEVENT

END:VCALENDAR
