BEGIN:VCALENDAR
VERSION:2.0
PRODID:-//ChamberMaster//Event Calendar 2.0//EN
METHOD:PUBLISH
X-PUBLISHED-TTL:P3D
REFRESH-INTERVAL:P3D
CALSCALE:GREGORIAN
BEGIN:VEVENT
DTSTART:20250715T153000Z
DTEND:20250715T171500Z
X-MICROSOFT-CDO-ALLDAYEVENT:FALSE
SUMMARY:Chamber Networking Luncheon
DESCRIPTION:Join the chamber for a delicious and informative presentation by different speakers each month.  Check in at 11:30 am for networking with members and their guests\, members of the community\, and elected officials before lunch.\n\nThis month\, our guest speaker is Dr. Keith Waters\, Assistant Director at the GMU Center for Regional Analysis and the Stephen S. Fuller Institute.  He'll address the "Washington Area Economic Outlook in Times of Severe Turbulence and Uncertainty".  His presentations are always popular so register soon to ensure your space.
X-ALT-DESC;FMTTYPE=text/html:Join the chamber for a delicious and informative presentation by different speakers each month.&nbsp\; Check in at 11:30 am for networking with members and their guests\, members of the community\, and elected officials before lunch.<br />\nThis month\, our guest speaker is Dr. Keith Waters\, Assistant Director at the GMU Center for Regional Analysis and the Stephen S. Fuller Institute.&nbsp\; He&#39\;ll address the &quot\;Washington Area Economic Outlook in Times of Severe Turbulence and Uncertainty&quot\;.&nbsp\; His presentations are always popular so register soon to ensure your space.&nbsp\;<br />\n<br />\n&nbsp\;&nbsp\;<br />\n&nbsp\;
LOCATION:Italian Cafe 7161 Lee Highway
UID:e.1250.78129
SEQUENCE:3
DTSTAMP:20260420T122055Z
URL:https://business.fallschurchchamber.org/events/details/chamber-networking-luncheon-07-15-2025-78129
END:VEVENT

END:VCALENDAR
