BEGIN:VCALENDAR
VERSION:2.0
PRODID:-//ChamberMaster//Event Calendar 2.0//EN
METHOD:PUBLISH
X-PUBLISHED-TTL:P3D
REFRESH-INTERVAL:P3D
CALSCALE:GREGORIAN
BEGIN:VEVENT
DTSTART:20250121T163000Z
DTEND:20250121T181500Z
X-MICROSOFT-CDO-ALLDAYEVENT:FALSE
SUMMARY:Chamber Networking Luncheon
DESCRIPTION:Join the chamber for a delicious and informative presentation by different speakers each month.  Check in at 11:30 am for networking with members and their guests\, members of the community\, and elected officials before lunch.\n\n  \n\nThis month\, supercharge your leadership in 2025! \n\nHear how personal wellness affects business wellness from experts in emotional and physical wellness who will inspire you to harness your emotional well-being to lead with authenticity.  You will learn to add health to your life with the six pillars of wellness\, unlock the benefits of workplace ergonomics\, and gain knowledge on the right exercise program for your fitness goals. 2025 can be an awesome year with you taking charge of your physical and leadership health.  The presenters are: \n\n\n\nKathy Paczak   Wellness Coach   Healthy Lives Journey\n\nKevin Moran   (or another from Alloy\, tbd)   Personal Trainer   Alloy Personal Training\n\nDr. Sheila Ziglari\, PT\, DPT   Physical Therapist   Fyzical Therapy and Balance Centers\n\nAaron Abreu   Leadership and Executive Coach   Cognitus Leadership and Executive Coaching\n\n\n\nWe will also reveal this years' theme for the Annual Business Awards Gala set for Thursday\, April 3 at the State Theatre!
X-ALT-DESC;FMTTYPE=text/html:Join the chamber for a delicious and informative presentation by different speakers each month.&nbsp\; Check in at 11:30 am for networking with members and their guests\, members of the community\, and elected officials before lunch.<br />\n&nbsp\;&nbsp\;<br />\nThis month\, supercharge your leadership in 2025!&nbsp\;<br />\nHear how personal wellness affects business wellness from experts in emotional and physical wellness who will inspire you to harness your emotional well-being to lead with authenticity.&nbsp\; You will learn to add health to your life with the six pillars of wellness\, unlock the benefits of workplace ergonomics\, and gain knowledge on the right exercise program for your fitness goals. 2025 can be an awesome year with you taking charge of your physical and leadership health.&nbsp\; The presenters are:&nbsp\;<br />\n<br />\nKathy Paczak &ndash\; Wellness Coach &ndash\; Healthy Lives Journey<br />\nKevin Moran &ndash\; (or another from Alloy\, tbd) &ndash\; Personal Trainer &ndash\; Alloy Personal Training<br />\nDr. Sheila Ziglari\, PT\, DPT &ndash\; Physical Therapist &ndash\; Fyzical Therapy and Balance Centers<br />\nAaron Abreu &ndash\; Leadership and Executive Coach &ndash\; Cognitus Leadership and Executive Coaching<br />\n<br />\nWe will also reveal this years&#39\; theme for the Annual Business Awards Gala set for Thursday\, April 3 at the State Theatre!<br />\n&nbsp\;
LOCATION:Italian Cafe 7161 Lee Highway
UID:e.1250.78111
SEQUENCE:3
DTSTAMP:20260421T054106Z
URL:https://business.fallschurchchamber.org/events/details/chamber-networking-luncheon-78111
END:VEVENT

END:VCALENDAR
