BEGIN:VCALENDAR
VERSION:2.0
PRODID:-//ChamberMaster//Event Calendar 2.0//EN
METHOD:PUBLISH
X-PUBLISHED-TTL:P3D
REFRESH-INTERVAL:P3D
CALSCALE:GREGORIAN
BEGIN:VEVENT
DTSTART:20250722T213000Z
DTEND:20250722T230000Z
X-MICROSOFT-CDO-ALLDAYEVENT:FALSE
SUMMARY:CHAMBER EVENT: Networking Mixer
DESCRIPTION:The networking evenings are hosted by a different Chamber member on the 4th Tuesday each month. \n\n\n\nSunrise of Falls Church is our host this month!  Enjoy light refreshments from Chef Von\, mingle with fellow professionals\, and take the opportunity to tour the beautiful community.  Please introduce yourself and welcome Executive Director Stephen Cuthbertson and the new leadership team at Sunrise of Falls Church - they're excited to connect with you!
X-ALT-DESC;FMTTYPE=text/html:The networking evenings are hosted by a different Chamber member on the 4th Tuesday each month.&nbsp\;<br />\n<br />\n<strong><span style="font-size:14px\;">Sunrise of Falls Church is our host this month!&nbsp\; Enjoy light refreshments from Chef Von\, mingle with fellow professionals\, and take the opportunity to tour the beautiful community.&nbsp\; Please introduce yourself and welcome Executive Director Stephen Cuthbertson and the new leadership team at Sunrise of Falls Church - they&#39\;re excited to connect with you!</span></strong>
LOCATION:Sunrise of Falls Church 330 N. Washington Street Parking at: Christ Crossman United Methodist Church 384 N Washington St. Falls Church\, Va 22046
UID:e.1250.25219
SEQUENCE:3
DTSTAMP:20260420T121929Z
URL:https://business.fallschurchchamber.org/events/details/chamber-networking-mixer-07-22-2025-25219
END:VEVENT

END:VCALENDAR
