BEGIN:VCALENDAR
VERSION:2.0
PRODID:-//ChamberMaster//Event Calendar 2.0//EN
METHOD:PUBLISH
X-PUBLISHED-TTL:P3D
REFRESH-INTERVAL:P3D
CALSCALE:GREGORIAN
BEGIN:VEVENT
DTSTART:20111015T000000Z
DTEND:20111015T020000Z
X-MICROSOFT-CDO-ALLDAYEVENT:FALSE
SUMMARY:Chamber Night for Nevermore
DESCRIPTION:Creative Cauldron is offering Chamber members $10 off the ticket price for Edgar Allan Poe's Nevermore performance on Oct. 14th at 8pm. Can't make that night? The show runs through the 30th. www.creativecauldron.org.
X-ALT-DESC;FMTTYPE=text/html:<span class="Apple-style-span" style="widows: 2\; text-transform: none\; text-indent: 0px\; letter-spacing: normal\; font: 14px/18px tahoma\, verdana\, arial\, helvetica\, 'bitstream vera sans'\, sans-serif\; white-space: normal\; orphans: 2\; color: rgb(0\,0\,0)\; word-spacing: 0px\; -webkit-text-decorations-in-effect: none\; -webkit-text-size-adjust: auto\; -webkit-text-stroke-width: 0px">Creative Cauldron is offering Chamber members $10 off the ticket price for Edgar Allan Poe&#39\;s Nevermore performance on Oct. 14th at 8pm. Can&#39\;t make that night? The show runs through the 30th. www.creativecauldron.org.&nbsp\;&nbsp\;<span _fck_bookmark="1" style="display: none">&nbsp\;</span></span>
LOCATION:ArtSpace Falls Church 410 S. Maple Ave. Falls Church
UID:e.1250.159
SEQUENCE:3
DTSTAMP:20260423T055424Z
URL:https://business.fallschurchchamber.org/events/details/chamber-night-for-nevermore-10-14-2011-159
END:VEVENT

END:VCALENDAR
