BEGIN:VCALENDAR
VERSION:2.0
PRODID:-//ChamberMaster//Event Calendar 2.0//EN
METHOD:PUBLISH
X-PUBLISHED-TTL:P3D
REFRESH-INTERVAL:P3D
CALSCALE:GREGORIAN
BEGIN:VEVENT
DTSTART:20250823T150000Z
DTEND:20250823T210000Z
X-MICROSOFT-CDO-ALLDAYEVENT:FALSE
SUMMARY:CityDance Open House and Audition
DESCRIPTION:Join us at CityDance Falls Church for an Open House and Audition on\n\nAugust 23rd\, 2025!\n\nOpen House | 11:00   1:00 pm\n\nStudents interested in our Studies program or Adult classes can take sample classes in taught by CityDance Faculty\, enjoy light refreshments\, and learn more about program offerings at Falls Church. RSVP for the Open House Here!\n\nAudition | 2:00   5:00 pm\n\nFor students ages 10   18 interested in Pre-Professional programming at our Falls Church and Montgomery County locations. Register to Audition\nEmail inquiry@citydance.net with any questions!
X-ALT-DESC;FMTTYPE=text/html:<h2 style="text-align:center">Join us at CityDance Falls Church for an Open House and Audition on<br />\nAugust 23rd\, 2025!</h2>\n\n<h4 style="text-align:center">Open House | 11:00 &ndash\; 1:00 pm<br />\nStudents interested in our&nbsp\;<a href="https://www.citydance.net/sac/conservatory/studies-program/" style="background-color: transparent\; min-height: 0px\; min-width: 0px\; box-sizing: inherit\; color: rgb(89\, 181\, 177)\;">Studies program</a>&nbsp\;or Adult classes can take sample classes in taught by CityDance Faculty\, enjoy light refreshments\, and learn more about program offerings at Falls Church.&nbsp\;<a href="https://forms.zohopublic.com/citydance/form/CityDanceFallsChurchGrandOpeningEvent/formperma/Io4Oo27DvKLf6OaaMvrr49vOP_8RSCqV6lmZemQiC6s" style="background-color: transparent\; min-height: 0px\; min-width: 0px\; box-sizing: inherit\; color: rgb(89\, 181\, 177)\;">RSVP for the Open House Here!</a></h4>\n\n<h4 style="text-align:center">Audition | 2:00 &ndash\; 5:00 pm<br />\nFor students ages 10 &ndash\; 18 interested in&nbsp\;Pre-Professional programming&nbsp\;at our Falls Church and Montgomery County locations.&nbsp\;<a href="https://zfrmz.com/zhrtNYtCtXMrdK3rb9TX" style="background-color: transparent\; min-height: 0px\; min-width: 0px\; box-sizing: inherit\; color: rgb(89\, 181\, 177)\;">Register to Audition</a></h4>\nEmail <u>inquiry@citydance.net</u> with any questions!
LOCATION:255 West Falls Station Blvd\, Suite 160 Falls Church\, VA 22043
UID:e.1250.81319
SEQUENCE:3
DTSTAMP:20260420T102842Z
URL:https://business.fallschurchchamber.org/events/details/citydance-open-house-and-audition-81319
END:VEVENT

END:VCALENDAR
