BEGIN:VCALENDAR
VERSION:2.0
PRODID:-//ChamberMaster//Event Calendar 2.0//EN
METHOD:PUBLISH
X-PUBLISHED-TTL:P3D
REFRESH-INTERVAL:P3D
CALSCALE:GREGORIAN
BEGIN:VEVENT
DTSTART:20250131T220000Z
DTEND:20250201T000000Z
X-MICROSOFT-CDO-ALLDAYEVENT:FALSE
SUMMARY:Client Appreciation Event
DESCRIPTION:Skin Lab Med Spa Client Appreciation Event \n\n\n\nPlease join us as we show our appreciation for YOU\, our amazing clients! Join us for an exclusive event filled with:\nDrinks & Finger Food   Enjoy delicious bites from @sixxcoolmoms member @fallschurchva__chick \n\nDrinks and wine tasting with @wineandwellnesswithtara\n\nMingle with friends and meet Falls Church's own @virginiadreamfc \n\nRaffle   Enter to win exciting prizes and treat yourself to a little extra pampering!\n\n\n\nMark your calendars\, bring a friend\, and let's celebrate YOU! We can't wait to see you there.\n\n\n\nDate & Time: January 31st 5-7pm\n\nLocation: 1140 W. Broad Street Falls Church\, VA 22046
X-ALT-DESC;FMTTYPE=text/html:<span style="background-color:rgb(255\, 255\, 255)\; font-family:-apple-system\,blinkmacsystemfont\,segoe ui\,roboto\,helvetica\,arial\,sans-serif\; font-size:14px">Skin Lab Med Spa Client Appreciation Event&nbsp\;</span><br />\n<br />\n<span style="background-color:rgb(255\, 255\, 255)\; font-family:-apple-system\,blinkmacsystemfont\,segoe ui\,roboto\,helvetica\,arial\,sans-serif\; font-size:14px">Please join us as we show our appreciation for YOU\, our amazing clients! Join us for an exclusive event filled with:</span>\n<div><span style="background-color:rgb(255\, 255\, 255)\; font-family:-apple-system\,blinkmacsystemfont\,segoe ui\,roboto\,helvetica\,arial\,sans-serif\; font-size:14px">Drinks &amp\; Finger Food &ndash\; Enjoy delicious bites from&nbsp\;</span><a class="x1i10hfl xjbqb8w x1ejq31n xd10rxx x1sy0etr x17r0tee x972fbf xcfux6l x1qhh985 xm0m39n x9f619 x1ypdohk xt0psk2 xe8uvvx xdj266r x11i5rnm xat24cr x1mh8g0r xexx8yu x4uap5 x18d9i69 xkhd6sd x16tdsg8 x1hl2dhg xggy1nq x1a2a7pz notranslate _a6hd" href="https://www.instagram.com/sixxcoolmoms/" style="cursor: pointer\; text-decoration-line: none\; outline: none\; list-style: none\; margin: 0px\; border-style: none\; -webkit-tap-highlight-color: transparent\; padding: 0px\; box-sizing: border-box\; border-width: 0px\; touch-action: manipulation\; background-color: rgb(255\, 255\, 255)\; display: inline\; font-family: -apple-system\, BlinkMacSystemFont\, &quot\;Segoe UI&quot\;\, Roboto\, Helvetica\, Arial\, sans-serif\; font-size: 14px\;" tabindex="0">@sixxcoolmoms</a><span style="background-color:rgb(255\, 255\, 255)\; font-family:-apple-system\,blinkmacsystemfont\,segoe ui\,roboto\,helvetica\,arial\,sans-serif\; font-size:14px">&nbsp\;member&nbsp\;</span><a class="x1i10hfl xjbqb8w x1ejq31n xd10rxx x1sy0etr x17r0tee x972fbf xcfux6l x1qhh985 xm0m39n x9f619 x1ypdohk xt0psk2 xe8uvvx xdj266r x11i5rnm xat24cr x1mh8g0r xexx8yu x4uap5 x18d9i69 xkhd6sd x16tdsg8 x1hl2dhg xggy1nq x1a2a7pz notranslate _a6hd" href="https://www.instagram.com/fallschurchva__chick/" style="cursor: pointer\; text-decoration-line: none\; outline: none\; list-style: none\; margin: 0px\; border-style: none\; -webkit-tap-highlight-color: transparent\; padding: 0px\; box-sizing: border-box\; border-width: 0px\; touch-action: manipulation\; background-color: rgb(255\, 255\, 255)\; display: inline\; font-family: -apple-system\, BlinkMacSystemFont\, &quot\;Segoe UI&quot\;\, Roboto\, Helvetica\, Arial\, sans-serif\; font-size: 14px\;" tabindex="0">@fallschurchva__chick</a><span style="background-color:rgb(255\, 255\, 255)\; font-family:-apple-system\,blinkmacsystemfont\,segoe ui\,roboto\,helvetica\,arial\,sans-serif\; font-size:14px">&nbsp\;</span><br />\n<span style="background-color:rgb(255\, 255\, 255)\; font-family:-apple-system\,blinkmacsystemfont\,segoe ui\,roboto\,helvetica\,arial\,sans-serif\; font-size:14px">Drinks and wine tasting with&nbsp\;</span><a class="x1i10hfl xjbqb8w x1ejq31n xd10rxx x1sy0etr x17r0tee x972fbf xcfux6l x1qhh985 xm0m39n x9f619 x1ypdohk xt0psk2 xe8uvvx xdj266r x11i5rnm xat24cr x1mh8g0r xexx8yu x4uap5 x18d9i69 xkhd6sd x16tdsg8 x1hl2dhg xggy1nq x1a2a7pz notranslate _a6hd" href="https://www.instagram.com/wineandwellnesswithtara/" style="cursor: pointer\; text-decoration-line: none\; outline: none\; list-style: none\; margin: 0px\; border-style: none\; -webkit-tap-highlight-color: transparent\; padding: 0px\; box-sizing: border-box\; border-width: 0px\; touch-action: manipulation\; background-color: rgb(255\, 255\, 255)\; display: inline\; font-family: -apple-system\, BlinkMacSystemFont\, &quot\;Segoe UI&quot\;\, Roboto\, Helvetica\, Arial\, sans-serif\; font-size: 14px\;" tabindex="0">@wineandwellnesswithtara</a><br />\n<span style="background-color:rgb(255\, 255\, 255)\; font-family:-apple-system\,blinkmacsystemfont\,segoe ui\,roboto\,helvetica\,arial\,sans-serif\; font-size:14px">Mingle with friends and meet Falls Church&rsquo\;s own&nbsp\;</span><a class="x1i10hfl xjbqb8w x1ejq31n xd10rxx x1sy0etr x17r0tee x972fbf xcfux6l x1qhh985 xm0m39n x9f619 x1ypdohk xt0psk2 xe8uvvx xdj266r x11i5rnm xat24cr x1mh8g0r xexx8yu x4uap5 x18d9i69 xkhd6sd x16tdsg8 x1hl2dhg xggy1nq x1a2a7pz notranslate _a6hd" href="https://www.instagram.com/virginiadreamfc/" style="cursor: pointer\; text-decoration-line: none\; outline: none\; list-style: none\; margin: 0px\; border-style: none\; -webkit-tap-highlight-color: transparent\; padding: 0px\; box-sizing: border-box\; border-width: 0px\; touch-action: manipulation\; background-color: rgb(255\, 255\, 255)\; display: inline\; font-family: -apple-system\, BlinkMacSystemFont\, &quot\;Segoe UI&quot\;\, Roboto\, Helvetica\, Arial\, sans-serif\; font-size: 14px\;" tabindex="0">@virginiadreamfc</a><span style="background-color:rgb(255\, 255\, 255)\; font-family:-apple-system\,blinkmacsystemfont\,segoe ui\,roboto\,helvetica\,arial\,sans-serif\; font-size:14px">&nbsp\;</span><br />\n<span style="background-color:rgb(255\, 255\, 255)\; font-family:-apple-system\,blinkmacsystemfont\,segoe ui\,roboto\,helvetica\,arial\,sans-serif\; font-size:14px">Raffle &ndash\; Enter to win exciting prizes and treat yourself to a little extra pampering!</span><br />\n<br />\n<span style="background-color:rgb(255\, 255\, 255)\; font-family:-apple-system\,blinkmacsystemfont\,segoe ui\,roboto\,helvetica\,arial\,sans-serif\; font-size:14px">Mark your calendars\, bring a friend\, and let&rsquo\;s celebrate YOU! We can&rsquo\;t wait to see you there.</span><br />\n<br />\n<span style="background-color:rgb(255\, 255\, 255)\; font-family:-apple-system\,blinkmacsystemfont\,segoe ui\,roboto\,helvetica\,arial\,sans-serif\; font-size:14px">Date &amp\; Time: January 31st 5-7pm</span></div>\n\n<div><span style="background-color:rgb(255\, 255\, 255)\; font-family:-apple-system\,blinkmacsystemfont\,segoe ui\,roboto\,helvetica\,arial\,sans-serif\; font-size:14px">Location: 1140 W. Broad Street Falls Church\, VA 22046</span></div>\n
LOCATION:Skin Lab Med Spa 1140 West Broad Street Falls Church\, VA 22046
UID:e.1250.78912
SEQUENCE:3
DTSTAMP:20260421T054107Z
URL:https://business.fallschurchchamber.org/events/details/client-appreciation-event-78912
END:VEVENT

END:VCALENDAR
