BEGIN:VCALENDAR
VERSION:2.0
PRODID:-//ChamberMaster//Event Calendar 2.0//EN
METHOD:PUBLISH
X-PUBLISHED-TTL:P3D
REFRESH-INTERVAL:P3D
CALSCALE:GREGORIAN
BEGIN:VEVENT
DTSTART:20111213T230000Z
DTEND:20111214T020000Z
X-MICROSOFT-CDO-ALLDAYEVENT:FALSE
SUMMARY:Coats For Kids Collection
DESCRIPTION:Radley Acura will be collecting new or gently used coats for needy kids from 6-9 pm on December 13.
X-ALT-DESC;FMTTYPE=text/html:Radley Acura will be collecting new or gently used coats for needy kids from 6-9 pm on December 13.
LOCATION:Radley Acura 5823 Columbia Pike
UID:e.1250.178
SEQUENCE:3
DTSTAMP:20260423T083410Z
URL:https://business.fallschurchchamber.org/events/details/coats-for-kids-collection-12-13-2011-178
END:VEVENT

END:VCALENDAR
