BEGIN:VCALENDAR
VERSION:2.0
PRODID:-//ChamberMaster//Event Calendar 2.0//EN
METHOD:PUBLISH
X-PUBLISHED-TTL:P3D
REFRESH-INTERVAL:P3D
CALSCALE:GREGORIAN
BEGIN:VEVENT
DTSTART:20250717T130000Z
DTEND:20250717T160000Z
X-MICROSOFT-CDO-ALLDAYEVENT:FALSE
SUMMARY:Comics\, Pop Culture and Trading Cards Auction
DESCRIPTION:Comics\, Pop Culture and Trading Card Auction\n\nThursday\, July 17th starting at 12:00pm EST\n\nThe auction features a collection of Silver and Bronze Age comics\, including a Marvel Fantastic Four #5 CGC 2.0 comic\, a Marvel Incredible Hulk #181 CGC 5.0 comic\, and a Marvel X-Men #4 CGC 4.0 comic.\n\n\n\nMagic: The Gathering cards\, including a MTG 1996 Pro Tour Collector Set\, an Exodus City of Traitors card\, and a selection of Alpha and Beta Limited Edition Cards. Pokemon cards\, such as a 1st Edition Base Set Charizard #4 holo PSA 2.0 card\, 1st Edition Base Set Alakazam #1 Holo PSA 6.0 card\, and a wide selection of sealed booster packs\, including German 1st Edition Base Set boosters\, Japanese Expansion Set boosters\, and Jungle boosters.\n\n\n\nAs well as a variety of other toys and pop culture memorabilia\, including a 1997 Sega "The Star Wars Trilogy Special Edition" pinball machine\, a sealed 1988 NES "Golf" CGC 8.0 game\, and a Mego DC Wonder Girl action figure.\n\nSALE INFO:\n\nJuly 17th\n\nFirst lot closing at 12:00pm Eastern\n\n27% Buyer's Premium\n\nAbsentee bidding on HiBid.\n\nLive bidding on LiveAuctioneers and Invaluable.\n\nIf you would like to request a condition report or have any questions please contact john@quinnsauction.com \n\nPREVIEW INFO:\n\nJuly 14th-16th 11:00am-4:00pm\n\nNO preview on weekends.\n\nPICKUP INFO:\n\nJuly 18th 10:30am-5:30pm\n\nJuly 19th-23rd 10:30am-5:30pm\n\nNo weekend pick up. \n\nNO IN HOUSE SHIPPING. \n\nContact shipping@quinnsauction.com for our shipping partner list.
X-ALT-DESC;FMTTYPE=text/html:<h3><a href="https://quinnsauction.hibid.com/catalog/657800/comics--pop-culture--and-trading-cards-auction-07-17-2025">Comics\, Pop Culture and Trading Card Auction</a></h3>\n\n<p>Thursday\, July 17th starting at 12:00pm EST</p>\n\n<p>The auction features a collection of Silver and Bronze Age comics\, including a Marvel Fantastic Four #5 CGC 2.0 comic\, a Marvel Incredible Hulk #181 CGC 5.0 comic\, and a Marvel X-Men #4 CGC 4.0 comic.<br />\n<br />\nMagic: The Gathering cards\, including a MTG 1996 Pro Tour Collector Set\, an Exodus City of Traitors card\, and a selection of Alpha and Beta Limited Edition Cards. Pokemon cards\, such as a 1st Edition Base Set Charizard #4 holo PSA 2.0 card\, 1st Edition Base Set Alakazam #1 Holo PSA 6.0 card\, and a wide selection of sealed booster packs\, including German 1st Edition Base Set boosters\, Japanese Expansion Set boosters\, and Jungle boosters.<br />\n<br />\nAs well as a variety of other toys and pop culture memorabilia\, including a 1997 Sega &quot\;The Star Wars Trilogy Special Edition&quot\; pinball machine\, a sealed 1988 NES &quot\;Golf&quot\; CGC 8.0 game\, and a Mego DC Wonder Girl action figure.</p>\n\n<p><strong>SALE INFO:</strong><br />\nJuly 17th<br />\nFirst lot closing at 12:00pm Eastern<br />\n27% Buyer&#39\;s Premium<br />\nAbsentee bidding on&nbsp\;<a href="https://quinnsauction.hibid.com/catalog/657800/comics--pop-culture--and-trading-cards-auction-07-17-2025" style="box-sizing: border-box\; transition: 0.5s\; background-color: transparent\; color: rgb(0\, 0\, 0)\; text-decoration-line: none\; user-select: auto\;">HiBid</a>.<br />\nLive bidding on&nbsp\;<a href="https://www.liveauctioneers.com/catalog/380673_comic-book-pop-culture-and-card-auction/" style="box-sizing: border-box\; transition: 0.5s\; background-color: transparent\; color: rgb(0\, 0\, 0)\; text-decoration-line: none\; user-select: auto\;">LiveAuctioneers</a>&nbsp\;and <a href="https://www.invaluable.com/catalog/rluethx1if?page=1&amp\;size=48">Invaluable</a>.<br />\nIf you would like to request a condition report or have any questions please contact&nbsp\;<a href="mailto:weekly@quinnsauction.com?subject=Comic%20Book%20Auction" rel="noopener noreferrer" style="box-sizing: border-box\; transition: 0.5s\; background-color: transparent\; color: rgb(0\, 0\, 0)\; text-decoration-line: none\; user-select: auto\;" target="_blank">john@quinnsauction.com</a>&nbsp\;</p>\n\n<p><strong>PREVIEW INFO:</strong><br />\nJuly 14th-16th 11:00am-4:00pm<br />\nNO preview on weekends.</p>\n\n<p><strong>PICKUP INFO:</strong><br />\nJuly 18th 10:30am-5:30pm<br />\nJuly 19th-23rd 10:30am-5:30pm<br />\n<strong>No weekend pick up.</strong>&nbsp\;</p>\n\n<p><strong>NO IN HOUSE SHIPPING.</strong>&nbsp\;<br />\nContact shipping@quinnsauction.com for our shipping partner list.</p>\n
LOCATION:
UID:e.1250.81280
SEQUENCE:3
DTSTAMP:20260420T122347Z
URL:https://business.fallschurchchamber.org/events/details/comics-pop-culture-and-trading-cards-auction-81280
END:VEVENT

END:VCALENDAR
