BEGIN:VCALENDAR
VERSION:2.0
PRODID:-//ChamberMaster//Event Calendar 2.0//EN
METHOD:PUBLISH
X-PUBLISHED-TTL:P3D
REFRESH-INTERVAL:P3D
CALSCALE:GREGORIAN
BEGIN:VEVENT
DTSTART:20121103T123000Z
DTEND:20121103T140000Z
X-MICROSOFT-CDO-ALLDAYEVENT:FALSE
SUMMARY:Community Health Talk: Exercise is Medicine
DESCRIPTION:NOVEMBER COMMUNITY HEALTH TALK:  EXERCISE IS MEDICINE\n\n\n\nWhat if you could drastically reduce your risk for contracting serious illnesses (reducing your medical expenses) and greatly improve your quality of life\, all in 30 minutes a day?  At Body Dynamics\, we understand that exercise is the best medicine there is -- we've developed a gym to tailor a program just for you\, taking into account your own personal challenges and needs to get you to your goal.  Join us to hear how even as little as 30 minutes a day can lead to a healthier\, happier\, you.
X-ALT-DESC;FMTTYPE=text/html:<strong><span style="font-size: 12px"><span style="font-family: verdana"><span style="color: #0000cd">NOVEMBER COMMUNITY HEALTH TALK: &nbsp\;EXERCISE IS MEDICINE<br />\n<br />\nWhat if you could drastically reduce your risk for contracting serious illnesses (reducing your medical expenses) and greatly improve your quality of life\, all in 30 minutes a day? </span></span></span></strong>&nbsp\;<span style="font-family: verdana">At Body Dynamics\, we understand that exercise is the best medicine there is -- we&#39\;ve developed a gym to tailor a program just for you\, taking into account your own personal challenges and needs to get you to your goal. &nbsp\;Join us to hear how even as little as 30 minutes a day can lead to a healthier\, happier\, you.</span>
LOCATION:Body Dynamics 410 South Maple Avenue\, Suite 100 Falls Church\, VA 22046
UID:e.1250.367
SEQUENCE:3
DTSTAMP:20260426T031625Z
URL:https://business.fallschurchchamber.org/events/details/community-health-talk-exercise-is-medicine-11-03-2012-367
END:VEVENT

END:VCALENDAR
