BEGIN:VCALENDAR
VERSION:2.0
PRODID:-//ChamberMaster//Event Calendar 2.0//EN
METHOD:PUBLISH
X-PUBLISHED-TTL:P3D
REFRESH-INTERVAL:P3D
CALSCALE:GREGORIAN
BEGIN:VEVENT
DTSTART:20250830T140000Z
DTEND:20250830T160000Z
X-MICROSOFT-CDO-ALLDAYEVENT:FALSE
SUMMARY:Community Open House
DESCRIPTION:You're Invited: Community Open House\n\nAre you looking for a high-quality early childhood program that truly makes a difference?\n\nEasterseals' Child Development Center in Falls Church invites families to come learn about our mission and discover why we are the only program in Northern Virginia that combines:\n\n\n	An inclusive learning environment\n	NAEYC accreditation\n	The Creative Curriculum\, which supports every child's growth and development.\n\n\nTour the center and meet our experienced and passionate staff. We'll also be offering one-on-one support for families ready to enroll. \n\nPLUS: Join us and take advantage of our back-to-school special: $500 off your first month's tuition!\n\nHope to see you then!
X-ALT-DESC;FMTTYPE=text/html:<h1>You&#39\;re Invited: Community Open House</h1>\n\n<p><span style="font-size:12pt"><span style="font-family:aptos\,sans-serif"><span style="color:black">Are you looking for a high-quality early childhood program that truly makes a difference?</span></span></span></p>\n\n<p><span style="font-size:12pt"><span style="font-family:aptos\,sans-serif"><span style="color:black">Easterseals&#39\; Child Development Center in Falls Church invites families to come learn about our mission and discover why we are the only program in Northern Virginia that combines:</span></span></span></p>\n\n<ul>\n	<li><span style="font-size:12pt"><span style="font-family:aptos\,sans-serif"><span style="color:black">An inclusive learning environment</span></span></span></li>\n	<li><span style="font-size:12pt"><span style="font-family:aptos\,sans-serif"><span style="color:black">NAEYC accreditation</span></span></span></li>\n	<li><span style="font-size:12pt"><span style="font-family:aptos\,sans-serif"><span style="color:black">The Creative Curriculum\, which supports every child&rsquo\;s growth and development.</span></span></span></li>\n</ul>\n\n<p><span style="font-size:12pt"><span style="font-family:aptos\,sans-serif"><span style="color:black">Tour&nbsp\;the center and m</span></span></span><span style="font-size:12pt"><span style="font-family:aptos\,sans-serif"><span style="color:black">eet our experienced and passionate staff. We&#39\;ll also be offering&nbsp\;</span></span></span><span style="font-size:12pt"><span style="font-family:aptos\,sans-serif"><span style="color:black">one-on-one support for families ready to enroll.&nbsp\;</span></span></span></p>\n\n<h2 style="text-align:center"><span style="color:#4e5f70"><strong><span style="font-size:12pt"><span style="font-family:aptos\,sans-serif">PLUS: </span></span></strong><span style="font-size:12pt"><span style="font-family:aptos\,sans-serif">Join us and take&nbsp\;advantage of our back-to-school special:</span></span><strong><span style="font-size:12pt"><span style="font-family:aptos\,sans-serif"> $500 off your first month&rsquo\;s tuition!</span></span></strong></span></h2>\n\n<p><span style="font-size:16px">Hope to see you then!</span></p>\n
LOCATION:
UID:e.1250.81321
SEQUENCE:3
DTSTAMP:20260420T102059Z
URL:https://business.fallschurchchamber.org/events/details/community-open-house-81321
END:VEVENT

END:VCALENDAR
