BEGIN:VCALENDAR
VERSION:2.0
PRODID:-//ChamberMaster//Event Calendar 2.0//EN
METHOD:PUBLISH
X-PUBLISHED-TTL:P3D
REFRESH-INTERVAL:P3D
CALSCALE:GREGORIAN
BEGIN:VEVENT
DTSTART:20241019T140000Z
DTEND:20241019T160000Z
X-MICROSOFT-CDO-ALLDAYEVENT:FALSE
SUMMARY:Community Symposium on Aging Well
DESCRIPTION:RSVP BELOW\n\nAnnouncing a dynamic\, information-packed symposium to energize your approach to aging well\n\nThe Kensington Falls Church is a trusted source of knowledge about all aspects of aging. Here\, we take continual measures to keep our team current with advances in care and overall wellness. And because we believe in the power of community\, we proudly partner with specialty experts to provide deeper education\, insight and assistance.\n\nIn the spirit of collaboration\, we invite you to join us and expert exhibitors for our inaugural Community Symposium on Aging Well. Explore vendor booths to discover wellness providers and services focused primarily on seniors. Get acquainted with peers and professionals who can support you throughout your entire aging journey.\n\n10:00am Registration Opens\n\n10:30am Welcome from Local City Officials\n\n11:00am Fitness Demonstration\n\n12:00pm Close\n\nPlease be sure to introduce yourself to our Kensington team members who demonstrate an unwavering commitment to excellence in assisted living and three tiers of memory care. We are ready\, willing and able to help! And we promise to love and care for your family as we do our own.\n\nFor questions\, please reach out to Kayla Hulbert\, Outreach & Events Coordinator\, at khulbert@kensingtonsl.com.
X-ALT-DESC;FMTTYPE=text/html:<h4 style="text-align:center"><a href="https://thekensingtonfallschurch.com/events/community-symposium-on-aging-well/"><strong>RSVP BELOW</strong></a></h4>\n\n<p style="text-align:center"><strong><em>Announcing a dynamic\, information-packed symposium to energize your approach to aging well</em></strong></p>\n\n<p>The Kensington Falls Church is a trusted source of knowledge about all aspects of aging. Here\, we take continual measures to keep our team current with advances in care and overall wellness. And because we believe in the power of community\, we proudly partner with specialty experts to provide deeper education\, insight and assistance.</p>\n\n<p>In the spirit of collaboration\, we invite you to join us and expert exhibitors for our inaugural Community Symposium on Aging Well. Explore vendor booths to discover wellness providers and services focused primarily on seniors. Get acquainted with peers and professionals who can support you throughout your entire aging journey.</p>\n\n<p style="text-align:center"><strong>10:00am&nbsp\;</strong>Registration Opens<br />\n<strong>10:30am&nbsp\;</strong>Welcome from Local City Officials<br />\n<strong>11:00am&nbsp\;</strong>Fitness Demonstration<br />\n<strong>12:00pm&nbsp\;</strong>Close</p>\n\n<p>Please be sure to introduce yourself to our Kensington team members who demonstrate an unwavering commitment to excellence in assisted living and three tiers of memory care. We are ready\, willing and able to help! And we promise to love and care for your family as we do our own.</p>\n\n<p><em>For questions\, please reach out to Kayla Hulbert\, Outreach &amp\; Events Coordinator\, at&nbsp\;<a href="mailto:khulbert@kensingtonsl.com" style="box-sizing: border-box\; color: rgb(101\, 101\, 101)\; text-decoration-line: none\; background-color: transparent\; box-shadow: none\; border: none\; padding: 0px\;">khulbert@kensingtonsl.com</a></em>.</p>\n
LOCATION:The Kensington Falls Church 700 West Broad Street Falls Church\, VA 22046
UID:e.1250.76132
SEQUENCE:3
DTSTAMP:20260421T083038Z
URL:https://business.fallschurchchamber.org/events/details/community-symposium-on-aging-well-76132
END:VEVENT

END:VCALENDAR
