BEGIN:VCALENDAR
VERSION:2.0
PRODID:-//ChamberMaster//Event Calendar 2.0//EN
METHOD:PUBLISH
X-PUBLISHED-TTL:P3D
REFRESH-INTERVAL:P3D
CALSCALE:GREGORIAN
BEGIN:VEVENT
DTSTART:20120628T230000Z
DTEND:20120629T003000Z
X-MICROSOFT-CDO-ALLDAYEVENT:FALSE
SUMMARY:Concert in the Park
DESCRIPTION:The Village Preservation and Improvement Society is proud to announce its lineup for the 20th season of Summer Concerts in Cherry Hill Park.  Co-sponsored by the City of Falls Church Recreation and Parks Department\, the concerts take place on seven Thursdays this summer at 7PM.  Bands with a local connection are always featured\, and Falls Church Arts members also present their creations. \n\n	\n\n	June 28 - Mama Tried (Randy Barrett and Dede Wyland)  WAMMIE award winner Mr. Barrett teams up with Dede Wyland.  Bluegrass.
X-ALT-DESC;FMTTYPE=text/html:<div style="color: gray">\n	The Village Preservation and Improvement Society is proud to announce its lineup for the 20th season of Summer Concerts in Cherry Hill Park.&nbsp\;&nbsp\;Co-sponsored by the City of Falls Church Recreation and Parks Department\, the concerts take place on seven Thursdays this summer at 7PM.&nbsp\;&nbsp\;Bands with a local connection are always featured\, and Falls Church Arts members also present their creations.&nbsp\;<br />\n	<br />\n	June 28 - Mama Tried (Randy Barrett and Dede Wyland)&nbsp\; WAMMIE award winner Mr. Barrett teams up with Dede Wyland.&nbsp\; Bluegrass.</div>\n
LOCATION:Cherry Hill Park
UID:e.1250.297
SEQUENCE:3
DTSTAMP:20260425T202237Z
URL:https://business.fallschurchchamber.org/events/details/concert-in-the-park-06-28-2012-297
END:VEVENT

END:VCALENDAR
