BEGIN:VCALENDAR
VERSION:2.0
PRODID:-//ChamberMaster//Event Calendar 2.0//EN
METHOD:PUBLISH
X-PUBLISHED-TTL:P3D
REFRESH-INTERVAL:P3D
CALSCALE:GREGORIAN
BEGIN:VEVENT
DTSTART:20161218T183000Z
DTEND:20161218T210000Z
X-MICROSOFT-CDO-ALLDAYEVENT:FALSE
SUMMARY:Create Your Vision for 2017
DESCRIPTION:Get ahead of the game and kickstart your 2017. Join Certified Professional Coach Kate Wiggins for a unique workshop that combines coaching\, yoga nidra meditation and vision boarding to create your own personal vision for 2017. You will walk away with not only your vision set for your year to come\, but also three clear actions to take your vision forward. Go from imagining how you want to live to creating your life\, how you want it.\n\nThis will be a fun and practical workshop. Get ready to be creative!
X-ALT-DESC;FMTTYPE=text/html:<span style="color:rgb(68\, 68\, 68)\; font-family:helvetica neue\,helvetica\,lucida grande\,lucida sans unicode\,lucida sans\,arial\,sans-serif\; font-size:16px">Get ahead of the game and kickstart your 2017. Join Certified Professional Coach Kate Wiggins for a unique workshop that combines coaching\, yoga nidra meditation and vision boarding to create your own personal vision for 2017. You will walk away with not only your vision set for your year to come\, but also three clear actions to take your vision forward. Go from imagining how you want to live to creating your life\, how you want it.</span>\n\n<p><span style="font-family:inherit\; font-size:16px">This will be a fun and practical workshop. Get ready to be creative!</span></p>\n
LOCATION:Dancing Mind 929 West Broad Street Falls Church\, VA 22046
UID:e.1250.14321
SEQUENCE:3
DTSTAMP:20260424T055453Z
URL:https://business.fallschurchchamber.org/events/details/create-your-vision-for-2017-14321
END:VEVENT

END:VCALENDAR
