BEGIN:VCALENDAR
VERSION:2.0
PRODID:-//ChamberMaster//Event Calendar 2.0//EN
METHOD:PUBLISH
X-PUBLISHED-TTL:P3D
REFRESH-INTERVAL:P3D
CALSCALE:GREGORIAN
BEGIN:VEVENT
DTSTART:20250604T130000Z
DTEND:20250604T160000Z
X-MICROSOFT-CDO-ALLDAYEVENT:FALSE
SUMMARY:D.C. Area Artists Auction
DESCRIPTION:D.C. Area Artists Auction\n\nWednesday\, June 4th starting at 12:00pm EST\n\nQuinn's Auction Galleries is proud to present our D.C. Area Artists Auction. Featuring paintings and works on paper from artists based in Washington D.C and the surrounding DMV and NOVA areas. Offering a variety of works from artists of the Torpedo Factory and Art League\, Arlington Artists Alliance\, Washington Printmakers Gallery and many more. Selected works from Art League directors and teachers Marsha Staiger\, Geri Gordon\, and Dani Dawson.\n\nSALE INFO:\n\nJune 4th\n\nFirst lot closing at 12:00pm Eastern\n\n27% Buyer's Premium\n\n\n\nPREVIEW INFO:\n\nBy appointment only\n\nJune 2nd 11:00am-4:00pm\n\nJune 3rd 11:00am-4:00pm\n\nNO preview on weekends.\n\nIf you would like to schedule a preview appointment\, request a condition report or have any questions please contact jordan.karlstrand@quinnsauction.com\n\nPICKUP INFO:\n\nJune 9th-13th 10:30am-5:30pm\n\nBy appointment only.\n\nLink to sign up will be included on winners' invoice..\n\nNo weekend pick up. \n\nNO IN HOUSE SHIPPING. \n\nContact shipping@quinnsauction.com for our shipping partner list.
X-ALT-DESC;FMTTYPE=text/html:<h3><a href="https://quinnsauction.appspot.com/auctions/DnGUiaGtK8P4Ca52TH8Y">D.C. Area Artists Auction</a></h3>\n\n<p>Wednesday\, June 4th starting at 12:00pm EST</p>\n\n<p>Quinn&rsquo\;s Auction Galleries is proud to present our D.C. Area Artists Auction. Featuring paintings and works on paper from artists based in Washington D.C and the surrounding DMV and NOVA areas. Offering a variety of works from artists of the Torpedo Factory and Art League\, Arlington Artists Alliance\, Washington Printmakers Gallery and many more. Selected works from Art League directors and teachers Marsha Staiger\, Geri Gordon\, and Dani Dawson.</p>\n\n<p><strong>SALE INFO:</strong><br />\nJune 4th<br />\nFirst lot closing at 12:00pm Eastern<br />\n27% Buyer&#39\;s Premium<br />\n<br />\n<strong>PREVIEW INFO:</strong><br />\nBy appointment only<br />\nJune 2nd 11:00am-4:00pm<br />\nJune 3rd 11:00am-4:00pm<br />\nNO preview on weekends.<br />\nIf you would like to schedule a preview appointment\, request a condition report or have any questions please contact jordan.karlstrand@quinnsauction.com</p>\n\n<p><strong>PICKUP INFO:</strong><br />\nJune 9th-13th 10:30am-5:30pm<br />\nBy appointment only.<br />\nLink to sign up will be included on winners&#39\; invoice..<br />\n<strong>No weekend pick up.</strong>&nbsp\;</p>\n\n<p><strong>NO IN HOUSE SHIPPING.</strong>&nbsp\;<br />\nContact shipping@quinnsauction.com for our shipping partner list.</p>\n
LOCATION:
UID:e.1250.81033
SEQUENCE:3
DTSTAMP:20260420T133112Z
URL:https://business.fallschurchchamber.org/events/details/d-c-area-artists-auction-81033
END:VEVENT

END:VCALENDAR
