BEGIN:VCALENDAR
VERSION:2.0
PRODID:-//ChamberMaster//Event Calendar 2.0//EN
METHOD:PUBLISH
X-PUBLISHED-TTL:P3D
REFRESH-INTERVAL:P3D
CALSCALE:GREGORIAN
BEGIN:VEVENT
DTSTART:20210625T223000Z
DTEND:20210626T003000Z
X-MICROSOFT-CDO-ALLDAYEVENT:FALSE
SUMMARY:Daddy Long Legs
DESCRIPTION:This charming musical is based on the 1912 novel of the same name\, written by Jean Webster. Set in turn-of-the-century New England\, Daddy Long Legs tells the story of Jerusha Abbott\, the oldest orphan in the John Grier Home. A mysterious benefactor agrees to send her to college under the condition that she writes him a letter once a month. Through this correspondence\, she shares her experiences of discovering literature\, adventure\, love and self. Not knowing the identity of her sponsor\, she writes to him under the nickname "Daddy Long Legs." \n\n\n\nPark for free at the Falls Church Community Center\, BRING A LAWN CHAIR\n\n\n\nTickets $25
X-ALT-DESC;FMTTYPE=text/html:<span style="color:rgb(40\, 40\, 40)">This charming musical is based on the 1912 novel of the same name\, written by Jean Webster. Set in turn-of-the-century New England\, <em>Daddy Long Legs </em>tells the story of Jerusha Abbott\, the oldest orphan in the John Grier Home. A mysterious benefactor agrees to send her to college under the condition that she writes him a letter once a month. Through this correspondence\, she shares her experiences of discovering literature\, adventure\, love and self. Not knowing the identity of her sponsor\, she writes to him under the nickname &quot\;Daddy Long Legs.&quot\;&nbsp\;</span><br />\n<br />\nPark for free at the Falls Church Community Center\, BRING A LAWN CHAIR<br />\n<br />\n<strong><a href="https://www.creativecauldron.org/daddy-long-legs.html">Tickets $25</a></strong>
LOCATION:Cherry Hill Park at the Falls Church Community Center
UID:e.1250.59046
SEQUENCE:3
DTSTAMP:20260420T100256Z
URL:https://business.fallschurchchamber.org/events/details/daddy-long-legs-59046
END:VEVENT

END:VCALENDAR
