BEGIN:VCALENDAR
VERSION:2.0
PRODID:-//ChamberMaster//Event Calendar 2.0//EN
METHOD:PUBLISH
X-PUBLISHED-TTL:P3D
REFRESH-INTERVAL:P3D
CALSCALE:GREGORIAN
BEGIN:VEVENT
DTSTART:20120424T230000Z
DTEND:20120425T020000Z
X-MICROSOFT-CDO-ALLDAYEVENT:FALSE
SUMMARY:DC Divas at Clare & Don's
DESCRIPTION:DC Divas at Clare & Don's Tonight! The DC Divas radio show from 7-10pm will take place at Clare & Don's Beach Shack! Stop by for great food\, beverages and a chance to meet some of the Divas! Thanks to Dr. Ray Solano for helping to make this happen! \n	Click here to edit...
X-ALT-DESC;FMTTYPE=text/html:<div style="color: gray">\n	<p style="margin: 0in 0in 0pt">\n		<font size="3"><strong><span style="color: #245c7b">DC Divas&nbsp\;at Clare &amp\; Don&#39\;s&nbsp\;Tonight! </span></strong><span style="color: #245c7b">The DC Divas&nbsp\;radio show&nbsp\;from 7-10pm&nbsp\;will&nbsp\;take place at Clare &amp\; Don&#39\;s Beach Shack!&nbsp\;Stop by for great food\, beverages and a chance to meet some of&nbsp\;the Divas!&nbsp\;Thanks to Dr. Ray Solano for helping to make this happen! <o:p></o:p></span></font></p>\n	Click here to edit...</div>\n
LOCATION:Clare & Don's Beach Shack 130 N. Washington St. Falls Church\, VA 22046
UID:e.1250.254
SEQUENCE:3
DTSTAMP:20260425T151850Z
URL:https://business.fallschurchchamber.org/events/details/dc-divas-at-clare-don-s-04-24-2012-254
END:VEVENT

END:VCALENDAR
