BEGIN:VCALENDAR
VERSION:2.0
PRODID:-//ChamberMaster//Event Calendar 2.0//EN
METHOD:PUBLISH
X-PUBLISHED-TTL:P3D
REFRESH-INTERVAL:P3D
CALSCALE:GREGORIAN
BEGIN:VEVENT
DTSTART:20121007T210000Z
DTEND:20121008T010000Z
X-MICROSOFT-CDO-ALLDAYEVENT:FALSE
SUMMARY:Decorate A Vet Holiday Fundraiser for local Veterans
DESCRIPTION:Decorate A Vet's annual holiday fundraiser will be held on the evening of November 7\, 2012 at 5:00PM at Clare & Don's Beach Shack in Falls Church\, VA. Proceeds from the fundraiser will be presented to local veterans.\n\n	\n\n	This will be a fun evening for our local community to come out and show their support. We will have terrific items to raffle\, games\, great food and music\, and time with good friends\, and most importantly we will make the holidays brighter for some local veterans."\n\n	...\n	\n		\n\n		Decorate A Vet will offer a raffle of sports memorabilia\, items of which have been graciously donated by sponsors of the fundraiser. The following items will be available to bid on during the course of the evening: a baseball signed by Cal and Billy Ripken\, a signed Merril Hoge Pittsburgh Steelers Jersey\, a model of the Space Shuttle Endeavor signed by Captain Mark Kelly\, a signed Scott Rolen Cardinal Jersey\, and a signed Grant Hill Orlando Magic Jersey. Local businesses have also made generous contributions for the raffle to include a natural stone fire pit from Classic Stonescaping & Gardens\, a Sislers Stone gift certificate\, a Kona Beach cruiser bike\, gift cards to local restaurants and stores\, and much more.\n\n		\n\n		Decorate A Vet will also have a drop box for donations of new or gently used holiday decorations at the fundraiser. If you are able\, please bring a holiday ornament or decoration to share with our veterans.
X-ALT-DESC;FMTTYPE=text/html:<div style="color: gray">\n	<span style="font-size: 14px"><span style="color: #000000">Decorate A Vet&#39\;s annual holiday fundraiser&nbsp\;will be held on the evening of November 7\, 2012 at 5:00PM at Clare &amp\; Don&rsquo\;s Beach Shack in Falls Church\, VA. Proceeds from the fundraiser will be presented to local veterans.<br />\n	<br />\n	This will be a fun evening for our local community to come out and show their support. We will have terrific items to raffle\, games\, great food and music\, and time with good friends\, and most importantly we will make the holidays brighter for some local veterans.&rdquo\;<br />\n	<span class="text_exposed_hide">...</span></span></span>\n	<div class="text_exposed_show">\n		<br />\n		<span style="font-size: 14px"><span style="color: #000000">Decorate A Vet will offer a raffle of sports memorabilia\, items of which have been graciously donated by sponsors of the fundraiser. The following items will be available to bid on during the course of the evening: a baseball signed by Cal and Billy Ripken\, a signed Merril Hoge Pittsburgh Steelers Jersey\, a model of the Space Shuttle Endeavor signed by Captain Mark Kelly\, a signed Scott Rolen Cardinal Jersey\, and a signed Grant Hill Orlando Magic Jersey. Local businesses have also made generous contributions for the raffle to include a natural stone fire pit from Classic Stonescaping &amp\; Gardens\, a Sislers Stone gift certificate\, a Kona Beach cruiser bike\, gift cards to local restaurants and stores\, and much more.<br />\n		<br />\n		<strong>Decorate A Vet will also have a drop box for donations of new or gently used holiday decorations at the fundraiser. If you are able\, please bring a holiday ornament or decoration to share with our veterans.</strong></span></span><br />\n		<span _fck_bookmark="1" style="display: none">&nbsp\;</span></div>\n</div>\n
LOCATION:Clare and Don's Beach Shack 130 N. Washington St. Falls Church\, VA
UID:e.1250.390
SEQUENCE:3
DTSTAMP:20260426T012843Z
URL:https://business.fallschurchchamber.org/events/details/decorate-a-vet-holiday-fundraiser-for-local-veterans-10-07-2012-390
END:VEVENT

END:VCALENDAR
