BEGIN:VCALENDAR
VERSION:2.0
PRODID:-//ChamberMaster//Event Calendar 2.0//EN
METHOD:PUBLISH
X-PUBLISHED-TTL:P3D
REFRESH-INTERVAL:P3D
CALSCALE:GREGORIAN
BEGIN:VEVENT
DTSTART:20121111T210000Z
DTEND:20121112T030000Z
X-MICROSOFT-CDO-ALLDAYEVENT:FALSE
SUMMARY:Decorate A Vet's Winter Fundraiser
DESCRIPTION:Decorate A Vet's winter fundraiser is right around the corner - Sunday\, November 11th (Veteran's Day) from 5pm to.... We will be descending on Clare & Don's Beach Shack ( http://clareanddons.com/shack.html ) in The City of Falls Church for food\, drink\, and a silent auction to benefit DAV. Here's a partial list of the items that will be available for bidding:\n\n	* Signed Baseball by Cal and Billy Ripken\n\n	* Signed Merril Hoge Pittsburgh Steelers Jersey\n\n	* Signed Model of Space Shuttle Endeavor... \n	\n		by Cpt Mark Kelly\n\n		* Signed Scott Rolen Cardinal Jersey\n\n		* Signed Grant Hill Orlando Magic Jersey\n\n		* Signed Nick Backstrom Hockey Puck\n\n		...and much more to be added.\n\n		\n\n		We'd love to meet you and your family for a fun night out around the fire pit on the patio. Please email us if you have any questions about restaurant location\, silent auction rules\, or general information - Admin@DecorateAVet.org
X-ALT-DESC;FMTTYPE=text/html:<div class="text_exposed_root text_exposed" id="id_5097f9cb1826f3006590345">\n	<span style="font-size: 14px"><span itemprop="description"><span class="fsl">Decorate A Vet&#39\;s winter fundraiser is right around the corner - Sunday\, November 11th (Veteran&#39\;s Day) from 5pm to.... We will be descending on Clare &amp\; Don&#39\;s Beach Shack ( <a href="http://clareanddons.com/shack.html" rel="nofollow nofollow" target="_blank"><span>http://clareanddons.com/</span></a></span></span></span><span itemprop="description"><span class="fsl"><a href="http://clareanddons.com/shack.html" rel="nofollow nofollow" target="_blank"><wbr><span style="font-size: 14px">shack.html</span></wbr></a></span></span><span style="font-size: 14px"><span itemprop="description"><span class="fsl"> ) in The City of Falls Church for food\, drink\, and a silent auction to benefit DAV. Here&#39\;s a partial list of the items that will be available for bidding:<br />\n	* Signed Baseball by Cal and Billy Ripken<br />\n	* Signed Merril Hoge Pittsburgh Steelers Jersey<br />\n	* Signed Model of Space Shuttle Endeavor<span class="text_exposed_hide">...</span> </span></span></span>\n	<div class="text_exposed_show">\n		<span style="font-size: 14px"><span itemprop="description"><span class="fsl">by Cpt Mark Kelly<br />\n		* Signed Scott Rolen Cardinal Jersey<br />\n		* Signed Grant Hill Orlando Magic Jersey<br />\n		* Signed Nick Backstrom Hockey Puck<br />\n		...and much more to be added.<br />\n		<br />\n		We&#39\;d love to meet you and your family for a fun night out around the fire pit on the patio. Please email us if you have any questions about restaurant location\, silent auction rules\, or general information - Admin@DecorateAVet.org</span></span></span><span itemprop="description"><span class="fsl"><span _fck_bookmark="1" style="display: none">&nbsp\;</span></span></span></div>\n</div>\n
LOCATION:Clare and Don's Beach Shack 130 N. Washington St. Falls Church\, VA 22046
UID:e.1250.395
SEQUENCE:3
DTSTAMP:20260426T031737Z
URL:https://business.fallschurchchamber.org/events/details/decorate-a-vet-s-winter-fundraiser-11-11-2012-395
END:VEVENT

END:VCALENDAR
