BEGIN:VCALENDAR
VERSION:2.0
PRODID:-//ChamberMaster//Event Calendar 2.0//EN
METHOD:PUBLISH
X-PUBLISHED-TTL:P3D
REFRESH-INTERVAL:P3D
CALSCALE:GREGORIAN
BEGIN:VEVENT
DTSTART;VALUE=DATE:20120808
DTEND;VALUE=DATE:20120809
TRANSP:TRANSPARENT
X-MICROSOFT-CDO-ALLDAYEVENT:TRUE
SUMMARY:Dine out for Homestretch
DESCRIPTION:On Wednesday\, August 8th\, California Pizza at Tyson's Corner is donating 20% of earnings that day to Homestretch! Please go have some pizza for Homestretch and tell your friends to do the same!  A yummy way to support a good cause. \n\n	\n\n	click on the picture above and print out the flyer. The event flyer must be presented at the time of ordering at California Pizza in order for them to give the donation.
X-ALT-DESC;FMTTYPE=text/html:<div style="color: gray">\n	<strong><span style="color: navy"><span style="font-family: arial\, sans-serif"><span style="font-size: medium">On Wednesday\, August 8</span></span><sup><span style="font-size: small">th</span></sup></span><span style="font-size: medium">\, California Pizza at Tyson&rsquo\;s Corner is donating 20% of earnings that day to Homestretch</span></strong><span style="color: navy"><span style="font-family: arial\, sans-serif"><span style="font-size: medium">! <strong>Please go have some pizza for Homestretch and tell your friends to do the same!&nbsp\; A yummy way to support a good cause.&nbsp\;<br />\n	<br />\n	click on the picture above and print out the flyer. The event flyer must be presented at the time of ordering at California Pizza in order for them to give the donation.</strong></span></span></span></div>\n
LOCATION:California Pizza Kitchen Tysons Corner Center
UID:e.1250.316
SEQUENCE:3
DTSTAMP:20260425T221456Z
URL:https://business.fallschurchchamber.org/events/details/dine-out-for-homestretch-08-08-2012-316
END:VEVENT

END:VCALENDAR
