BEGIN:VCALENDAR
VERSION:2.0
PRODID:-//ChamberMaster//Event Calendar 2.0//EN
METHOD:PUBLISH
X-PUBLISHED-TTL:P3D
REFRESH-INTERVAL:P3D
CALSCALE:GREGORIAN
BEGIN:VEVENT
DTSTART:20120426T210000Z
DTEND:20120427T020000Z
X-MICROSOFT-CDO-ALLDAYEVENT:FALSE
SUMMARY:Dining Out for Life at Open Kitchen
DESCRIPTION:Each year Dining Out for Life benefits Food & Friends by enlisting local DC Metro area restaurants to participate in the Food & Friends mission. Over 150 restaurants will donate 25-100% of their proceeds to Food & Friends. Please help us support this mission by dining with us Thursday\, April 26th. By dining with us\, you'll ensure that thousands of children and adults facing HIV/AIDS\, cancer and other life-challenging illnesses\, receive the daily\, nutritious meals so vital to their care. Make your reservation soon and check out the article from Food & Friends\n\nfeaturing Open Kitchen!
X-ALT-DESC;FMTTYPE=text/html:Each year Dining Out for Life benefits Food &amp\; Friends by enlisting local DC Metro area restaurants to participate in the Food &amp\; Friends mission. Over 150 restaurants will donate 25-100% of their proceeds to Food &amp\; Friends. Please help us support this mission by dining with us Thursday\, April 26th. By dining with us\, you&#39\;ll ensure that thousands of children and adults facing HIV/AIDS\, cancer and other life-challenging illnesses\, receive the daily\, nutritious meals so vital to their care. Make your reservation soon and check out the article from Food &amp\; Friends<br />\nfeaturing Open Kitchen!<br />\n&nbsp\;
LOCATION:7115 Leesburg Pike #107\, Falls Church\, VA 22043
UID:e.1250.252
SEQUENCE:3
DTSTAMP:20260425T154014Z
URL:https://business.fallschurchchamber.org/events/details/dining-out-for-life-at-open-kitchen-04-26-2012-252
END:VEVENT

END:VCALENDAR
