BEGIN:VCALENDAR
VERSION:2.0
PRODID:-//ChamberMaster//Event Calendar 2.0//EN
METHOD:PUBLISH
X-PUBLISHED-TTL:P3D
REFRESH-INTERVAL:P3D
CALSCALE:GREGORIAN
BEGIN:VEVENT
DTSTART:20190113T233000Z
DTEND:20190114T010000Z
X-MICROSOFT-CDO-ALLDAYEVENT:FALSE
SUMMARY:Creative Cauldron Presents Passport to the World 2019: Disco Grass
DESCRIPTION:Here is an eclectic performance. Get ready to hear virtuoso bluegrass musicians led by Bumper Jackson's Chris Ousley\, tearing up on disco music of the 70's. This is a take on some popular classics you're sure to only find with Disco Grass. Big Fun!
X-ALT-DESC;FMTTYPE=text/html:Here is an eclectic performance. Get ready to hear virtuoso bluegrass musicians led by Bumper Jackson&rsquo\;s Chris Ousley\, tearing up on disco music of the 70&rsquo\;s. This is a take on some popular classics you&#39\;re sure to only find with Disco Grass. Big Fun!
LOCATION:Creative Cauldron 410 South Maple Aveune Falls Church\, VA. 22046
UID:e.1250.32521
SEQUENCE:3
DTSTAMP:20260423T162207Z
URL:https://business.fallschurchchamber.org/events/details/disco-grass-32521
END:VEVENT

END:VCALENDAR
