BEGIN:VCALENDAR
VERSION:2.0
PRODID:-//ChamberMaster//Event Calendar 2.0//EN
METHOD:PUBLISH
X-PUBLISHED-TTL:P3D
REFRESH-INTERVAL:P3D
CALSCALE:GREGORIAN
BEGIN:VEVENT
DTSTART:20120929T230000Z
DTEND:20120930T020000Z
X-MICROSOFT-CDO-ALLDAYEVENT:FALSE
SUMMARY:DuBro Architects + Builders 10 Year Celebration
DESCRIPTION:Live Music\, food\, drink\, & dancing to celebrate 10 years in the Design/Build business in Falls Church\, Arlington\, and McLean. Also celebrating new name: DuBro Architects + Builders (formally Novus Construction) and new website: www.dubro.net.
X-ALT-DESC;FMTTYPE=text/html:Live Music\, food\, drink\, &amp\; dancing to celebrate 10 years in the Design/Build business in Falls Church\, Arlington\, and McLean. Also celebrating new name: DuBro Architects + Builders (formally Novus Construction) and new website: www.dubro.net.
LOCATION:Call 703 533 7464 for directions and free admission ticket
UID:e.1250.354
SEQUENCE:3
DTSTAMP:20260425T234659Z
URL:https://business.fallschurchchamber.org/events/details/dubro-architects-builders-10-year-celebration-09-29-2012-354
END:VEVENT

END:VCALENDAR
