BEGIN:VCALENDAR
VERSION:2.0
PRODID:-//ChamberMaster//Event Calendar 2.0//EN
METHOD:PUBLISH
X-PUBLISHED-TTL:P3D
REFRESH-INTERVAL:P3D
CALSCALE:GREGORIAN
BEGIN:VEVENT
DTSTART:20120422T180000Z
DTEND:20120422T200000Z
X-MICROSOFT-CDO-ALLDAYEVENT:FALSE
SUMMARY:Earth Day Happy Hour at Open Kitchen
DESCRIPTION:Enjoy our Earth Day Happy Hour on the terrace!\n\n\n\nSaturday April 21st 3pm-5pm\n\nSunday April 22nd 2pm-4pm\n\n\n\nSeasonal Spring Savory & Sweet Tapas $18/person\n\nRed & White Sangria $5 each\n\nSouthern Tier 422 Earth Day Beer $5 each\n\n\n\nReservations Required!\n\nPlease call 703.942.8148
X-ALT-DESC;FMTTYPE=text/html:Enjoy our Earth Day Happy Hour on the terrace!<br />\n<br />\nSaturday April 21st 3pm-5pm<br />\nSunday April 22nd 2pm-4pm<br />\n<br />\nSeasonal Spring Savory &amp\; Sweet Tapas $18/person<br />\nRed &amp\; White Sangria $5 each<br />\nSouthern Tier 422 Earth Day Beer $5 each<br />\n<br />\nReservations Required!<br />\nPlease call 703.942.8148&nbsp\;
LOCATION:7115 Leesburg Pike #107\, Falls Church\, VA 22043
UID:e.1250.243
SEQUENCE:3
DTSTAMP:20260425T154137Z
URL:https://business.fallschurchchamber.org/events/details/earth-day-happy-hour-at-open-kitchen-04-22-2012-243
END:VEVENT

END:VCALENDAR
