BEGIN:VCALENDAR
VERSION:2.0
PRODID:-//ChamberMaster//Event Calendar 2.0//EN
METHOD:PUBLISH
X-PUBLISHED-TTL:P3D
REFRESH-INTERVAL:P3D
CALSCALE:GREGORIAN
BEGIN:VEVENT
DTSTART:20120305T150000Z
DTEND:20120305T220000Z
X-MICROSOFT-CDO-ALLDAYEVENT:FALSE
SUMMARY:Eileen O'Brien Visiting Artist at Stifel and Capra
DESCRIPTION:Stifel & Capra is pleased to welcome March visiting artist Eileen M. O'Brien. O'Brien is a collage and mosaic artist\, and will be working at the studio upstairs and showing her creations throughout the month of March. Stifel & Capra is located at 260 W. Broad St.\, Falls Church\, VA 22046 and is open Monday through Saturday\, 10am-5pm\, open Sunday\, 12noon- 5pm.\n\nEileen O'Brien sees herself as the ultimate recycler\, finding numerous ways to reuse materials. For example\, for her collage pieces\, she often uses watercolor paintings as the base\, and then creates patterns and layers with hand-painted papers\, paints and other media. She started creating mosaic arts and crafts in 2007 and often uses discarded plates\, glassware and tiles\, as well as scraps leftover from stained glass projects in her pieces.
X-ALT-DESC;FMTTYPE=text/html:Stifel &amp\; Capra is pleased to welcome March visiting artist Eileen M. O&#39\;Brien. O&#39\;Brien is a collage and mosaic artist\, and will be working at the studio upstairs and showing her creations throughout the month of March. Stifel &amp\; Capra is located at 260 W. Broad St.\, Falls Church\, VA 22046 and is open Monday through Saturday\, 10am-5pm\, open Sunday\, 12noon- 5pm.<br />\nEileen O&#39\;Brien sees herself as the ultimate recycler\, finding numerous ways to reuse materials. For example\, for her collage pieces\, she often uses watercolor paintings as the base\, and then creates patterns and layers with hand-painted papers\, paints and other media. She started creating mosaic arts and crafts in 2007 and often uses discarded plates\, glassware and tiles\, as well as scraps leftover from stained glass projects in her pieces.<br />\n&nbsp\;
LOCATION:Stifel and Capra
UID:e.1250.223
SEQUENCE:3
DTSTAMP:20260425T135211Z
URL:https://business.fallschurchchamber.org/events/details/eileen-o-brien-visiting-artist-at-stifel-and-capra-03-05-2012-223
END:VEVENT

END:VCALENDAR
