BEGIN:VCALENDAR
VERSION:2.0
PRODID:-//ChamberMaster//Event Calendar 2.0//EN
METHOD:PUBLISH
X-PUBLISHED-TTL:P3D
REFRESH-INTERVAL:P3D
CALSCALE:GREGORIAN
BEGIN:VEVENT
DTSTART:20190121T183000Z
DTEND:20190121T200000Z
X-MICROSOFT-CDO-ALLDAYEVENT:FALSE
SUMMARY:Essential Oils 101
DESCRIPTION:Learn how to safely use oils aromatically\, topically and internally and learn why quality matters.\n\n\n\nEssential oil enthusiasts and educators always joke that there is an "oil for that\," but with all kidding aside\, there truly is. Whether you are looking for emotional support\, increased energy\, physical needs\, beauty and aging\, cleaning or cooking\, there is an oil that can (and will) offer extraordinary benefits in your life.\n\n\n\nWith dozens and dozens of oils available to us\, we want you to know which ones to use\, plus how and how often to use them.\n\n\n\nA daily routine is right around the corner with this empowering one-hour education seminar and sampling session.\n\n\n\nIf you don't have oils yet and would like to get started with some\, we'll help you with that too!
X-ALT-DESC;FMTTYPE=text/html:<span style="color:rgb(29\, 33\, 41)\; font-family:system-ui\,-apple-system\,system-ui\,.sfnstext-regular\,sans-serif\; font-size:14px">Learn how to safely use oils aromatically\, topically and internally and learn why quality matters.</span><br />\n<br />\n<span style="color:rgb(29\, 33\, 41)\; font-family:system-ui\,-apple-system\,system-ui\,.sfnstext-regular\,sans-serif\; font-size:14px">Essential oil enthusiasts and educators always joke that there is an &ldquo\;oil for that\,&rdquo\; but with all kidding aside\, there truly is. Whether you are looking for emotional support\, increased energy\, physical needs\, beauty and aging\, cleaning or cooking\, there is an oil that can (and will) offer extraordinary benefits in your life.</span><br />\n<br />\n<span style="color:rgb(29\, 33\, 41)\; font-family:system-ui\,-apple-system\,system-ui\,.sfnstext-regular\,sans-serif\; font-size:14px">With dozens and dozens of oils available to us\, we want you to know which ones to use\, plus how and how often to use them.</span><br />\n<br />\n<span style="color:rgb(29\, 33\, 41)\; font-family:system-ui\,-apple-system\,system-ui\,.sfnstext-regular\,sans-serif\; font-size:14px">A daily routine is right around the corner with this empowering one-hour education seminar and sampling session.</span><br />\n<br />\n<span style="color:rgb(29\, 33\, 41)\; font-family:system-ui\,-apple-system\,system-ui\,.sfnstext-regular\,sans-serif\; font-size:14px">If you don&#39\;t have oils yet and would like to get started with some\, we&#39\;ll help you with that too!</span>
LOCATION:The Athlete Development Center 102 E Fairfax St Falls Church\, VA 22046
UID:e.1250.32773
SEQUENCE:3
DTSTAMP:20260422T163940Z
URL:https://business.fallschurchchamber.org/events/details/essential-oils-101-32773
END:VEVENT

END:VCALENDAR
