BEGIN:VCALENDAR
VERSION:2.0
PRODID:-//ChamberMaster//Event Calendar 2.0//EN
METHOD:PUBLISH
X-PUBLISHED-TTL:P3D
REFRESH-INTERVAL:P3D
CALSCALE:GREGORIAN
BEGIN:VEVENT
DTSTART:20120210T210000Z
DTEND:20120211T020000Z
X-MICROSOFT-CDO-ALLDAYEVENT:FALSE
SUMMARY:Event at Flippin Pizza
DESCRIPTION:Oakton Elementary School Fundraising Event. 50% of the gross sales will go to the school\, please bring in flyers to participate.
X-ALT-DESC;FMTTYPE=text/html:Oakton Elementary School Fundraising Event. 50% of the gross sales will go to the school\, please bring in flyers to participate.&nbsp\;
LOCATION:Flippin' Pizza 800 W. Broad St.\, Falls Church
UID:e.1250.203
SEQUENCE:3
DTSTAMP:20260425T121924Z
URL:https://business.fallschurchchamber.org/events/details/event-at-flippin-pizza-02-10-2012-203
END:VEVENT

END:VCALENDAR
