BEGIN:VCALENDAR
VERSION:2.0
PRODID:-//ChamberMaster//Event Calendar 2.0//EN
METHOD:PUBLISH
X-PUBLISHED-TTL:P3D
REFRESH-INTERVAL:P3D
CALSCALE:GREGORIAN
BEGIN:VEVENT
DTSTART;VALUE=DATE:20120507
DTEND;VALUE=DATE:20120508
TRANSP:TRANSPARENT
X-MICROSOFT-CDO-ALLDAYEVENT:TRUE
SUMMARY:Event at Lions Club of Falls Church
DESCRIPTION:The Falls Church Lions Club announces their 8th Annual Charity Golf Tournament is scheduled for Monday\, May 7\, 2012 to be held at the 1757 Golf Club\, the Ultimate Golf Experience in Northern Virginia. This year we are partnering with the Fairfax Partnership for Youth to benefit the Youth of Northern Virginia and Lions Charities. We invite all Chamber members\, friends and family to participate in this fun-filled event. Win a new car!! or one of many other prizes! Corporate and individual sponsorships are most welcome. For additional information please contact Barry Buschow 703-533-8610 or visit our web site at [ http://www.FallsChurchLions.org ]www.FallsChurchLions.org.
X-ALT-DESC;FMTTYPE=text/html:The Falls Church Lions Club announces their 8th Annual Charity Golf Tournament is scheduled for Monday\, May 7\, 2012 to be held at the 1757 Golf Club\, the Ultimate Golf Experience in Northern Virginia. This year we are partnering with the Fairfax Partnership for Youth to benefit the Youth of Northern Virginia and Lions Charities. We invite all Chamber members\, friends and family to participate in this fun-filled event. Win a new car!! or one of many other prizes! Corporate and individual sponsorships are most welcome. For additional information please contact Barry Buschow 703-533-8610 or visit our web site at [ http://www.FallsChurchLions.org ]www.FallsChurchLions.org.
LOCATION:1757 Golf Club\, 45120 Waxpool Road Dulles\, VA 20166
UID:e.1250.234
SEQUENCE:3
DTSTAMP:20260425T165505Z
URL:https://business.fallschurchchamber.org/events/details/event-at-lions-club-of-falls-church-05-07-2012-234
END:VEVENT

END:VCALENDAR
